BEGIN:VCALENDAR
VERSION:2.0
PRODID:-//ChamberMaster//Event Calendar 2.0//EN
METHOD:PUBLISH
X-PUBLISHED-TTL:P3D
REFRESH-INTERVAL:P3D
CALSCALE:GREGORIAN
BEGIN:VEVENT
DTSTART:20150904T003000Z
DTEND:20150904T013000Z
X-MICROSOFT-CDO-ALLDAYEVENT:FALSE
SUMMARY:Town Hall Meeting Mayor Pro Tem Art Barajas
DESCRIPTION:The Montebello Chamber of Commerce recently approached  Mayor Pro Tem Art Barajas about regularly scheduled Town Hall meetings and the first one is March 5\, 2015.\n\n \n\n Mayor Pro Tem Barajas will determine the topic and decide who can speak best on that topic.  The Chamber will promote the Town Hall Meetings by getting the word out through the Spotlight on Montebello\, our website\, MontebelloChamber.org and our Facebook page.\n\n \n\nAll Town Hall Meetings will be held in Council Chambers from 5:30 to 6:30 p.m..  The Town Hall schedule is as follows:\n\n              \n \n\n\n\n               Thursday\, September 3\, 2015\n\n               Thursday\, November 5\, 2015\n\n              \n\n\n \n\nThe topics are selected by the  Mayor Pro Tem based on what he determines to be relevant to Montebello.  The Chamber will make every effort to advise the community of the topic chosen in a timely manner.  We hope that you will find these meetings to be a great tool in understanding the dynamics of what's going on in the city in which you live and work!
X-ALT-DESC;FMTTYPE=text/html:<div>The Montebello Chamber of Commerce recently approached&nbsp\; Mayor Pro Tem Art Barajas about regularly scheduled Town Hall meetings and the first one is March 5\, 2015.<br />\n&nbsp\;<br />\n&nbsp\;Mayor Pro Tem Barajas will determine the topic and decide who can speak best on that topic.&nbsp\; The Chamber will promote the Town Hall Meetings by getting the word out through the <u>Spotlight on Montebello</u>\, our website\, MontebelloChamber.org and our Facebook page.<br />\n&nbsp\;<br />\nAll Town Hall Meetings will be held in Council Chambers from 5:30 to 6:30 p.m..&nbsp\; The Town Hall schedule is as follows:<br />\n&nbsp\;&nbsp\;&nbsp\;&nbsp\;&nbsp\;&nbsp\;&nbsp\;&nbsp\;&nbsp\;&nbsp\;&nbsp\;&nbsp\;&nbsp\;&nbsp\;</div>\n&nbsp\;\n\n<div><br />\n&nbsp\;&nbsp\;&nbsp\;&nbsp\;&nbsp\;&nbsp\;&nbsp\;&nbsp\;&nbsp\;&nbsp\;&nbsp\;&nbsp\;&nbsp\;&nbsp\; Thursday\, September 3\, 2015<br />\n&nbsp\;&nbsp\;&nbsp\;&nbsp\;&nbsp\;&nbsp\;&nbsp\;&nbsp\;&nbsp\;&nbsp\;&nbsp\;&nbsp\;&nbsp\;&nbsp\; Thursday\, November 5\, 2015<br />\n&nbsp\;&nbsp\;&nbsp\;&nbsp\;&nbsp\;&nbsp\;&nbsp\;&nbsp\;&nbsp\;&nbsp\;&nbsp\;&nbsp\;&nbsp\;&nbsp\;</div>\n<br clear="all" />\n&nbsp\;<br />\nThe topics are selected by the&nbsp\; Mayor Pro Tem based on what he determines to be relevant to Montebello.&nbsp\; The Chamber will make every effort to advise the community of the topic chosen in a timely manner.&nbsp\; We hope that you will find these meetings to be a great tool in understanding the dynamics of what&rsquo\;s going on in the city in which you live and work!
LOCATION:
UID:e.1156.1361
SEQUENCE:3
DTSTAMP:20260420T022749Z
URL:https://www.montebellochamber.org/events/details/town-hall-meeting-mayor-pro-tem-art-barajas-09-03-2015-1361
END:VEVENT

END:VCALENDAR
