BEGIN:VCALENDAR
VERSION:2.0
PRODID:-//ChamberMaster//Event Calendar 2.0//EN
METHOD:PUBLISH
X-PUBLISHED-TTL:P3D
REFRESH-INTERVAL:P3D
CALSCALE:GREGORIAN
BEGIN:VEVENT
DTSTART:20130607T150000Z
DTEND:20130608T000000Z
X-MICROSOFT-CDO-ALLDAYEVENT:FALSE
SUMMARY:Trade Connect Workshop: Grow Via Trade with the West Coast of Latin America
DESCRIPTION:Experts from:\n\nTrade Development\, Port of Los Angeles\n\nU.S. Department of Commerce\n\nU.S. Small Business Administration\n\nCenter for International Trade Development\n\nLos Angeles World Airports\n\nL.A. Customs Brokers & Freight Forwarders Association\n\n\n\n\n\nLearn about services now available !\n\n How to Export\n\n  Identify Markets\n\n  Financing & Insuring Overseas Sales\n\n  Documentation & Logistics\n\n  Sea and Air Cargo Services\n\n\n\n\n\n  Panel on Mexico\n\n  Panel on Central America\n\n  Colombia\n\n  Ecuador\n\n  Peru\n\n  Chile\n\n\n\nFree Registration and Networking Opportunities!
X-ALT-DESC;FMTTYPE=text/html:Experts from:<br />\nTrade Development\, Port of Los Angeles<br />\nU.S. Department of Commerce<br />\nU.S. Small Business Administration<br />\nCenter for International Trade Development<br />\nLos Angeles World Airports<br />\nL.A. Customs Brokers &amp\; Freight Forwarders Association<br />\n<br />\n<br />\nLearn about services now available !<br />\n&radic\;How to Export<br />\n&radic\; Identify Markets<br />\n&radic\; Financing &amp\; Insuring Overseas Sales<br />\n&radic\; Documentation &amp\; Logistics<br />\n&radic\; Sea and Air Cargo Services<br />\n<br />\n<br />\n&#61623\; Panel on Mexico<br />\n&#61623\; Panel on Central America<br />\n&#61623\; Colombia<br />\n&#61623\; Ecuador<br />\n&#61623\; Peru<br />\n&#61623\; Chile<br />\n<br />\nFree Registration and Networking Opportunities!
LOCATION:South Gate Municipal Auditorium 4900 Southern Avenue South Gate\, CA 90280
UID:e.1156.919
SEQUENCE:3
DTSTAMP:20260419T130927Z
URL:https://www.montebellochamber.org/events/details/trade-connect-workshop-grow-via-trade-with-the-west-coast-of-latin-america-06-07-2013-919
END:VEVENT

END:VCALENDAR
