BEGIN:VCALENDAR
VERSION:2.0
PRODID:-//ChamberMaster//Event Calendar 2.0//EN
METHOD:PUBLISH
X-PUBLISHED-TTL:P3D
REFRESH-INTERVAL:P3D
CALSCALE:GREGORIAN
BEGIN:VEVENT
DTSTART:20191202T010000Z
DTEND:20191202T033000Z
X-MICROSOFT-CDO-ALLDAYEVENT:FALSE
SUMMARY:Tree Lighting at City Hall
DESCRIPTION:
X-ALT-DESC;FMTTYPE=text/html:
LOCATION:City Hall 1600 Beverly Blvd. Montebello\, CA 90640
UID:e.1156.3501
SEQUENCE:3
DTSTAMP:20260419T143039Z
URL:https://www.montebellochamber.org/events/details/tree-lighting-at-city-hall-3501
END:VEVENT

END:VCALENDAR
