BEGIN:VCALENDAR
VERSION:2.0
PRODID:-//ChamberMaster//Event Calendar 2.0//EN
METHOD:PUBLISH
X-PUBLISHED-TTL:P3D
REFRESH-INTERVAL:P3D
CALSCALE:GREGORIAN
BEGIN:VEVENT
DTSTART:20191117T010000Z
DTEND:20191117T040000Z
X-MICROSOFT-CDO-ALLDAYEVENT:FALSE
SUMMARY:Tree Lighting Ceremony at The Shops at Montebello
DESCRIPTION:Join The Shops at Montebello for the 1st annual tree lighting ceremony with special guest and actor Danny Trejo\, who has starred in films including Desperado\, Machete\, Breaking Bad\, and Spy Kids. J Cruz and the REAL 92.3 FM street team will also be joining in on the festivities. Attendees are invite to enjoy holiday cookies\, warm beverages\, face painting\, and silent disco. The first 100 shoppers in line will get a photo with Danny Trejo. Shoppers must provide camera or personal phone for photos.
X-ALT-DESC;FMTTYPE=text/html:<span style="color:#4D4D4D\;"><span style="font-family:helvetica\,sans-serif\;"><span style="font-size:12.0pt\;">Join The Shops at Montebello&nbsp\;for the 1st&nbsp\;annual tree lighting ceremony with special guest and actor Danny Trejo\, who has starred in&nbsp\;films&nbsp\;including Desperado\, Machete\, Breaking Bad\, and Spy Kids. J Cruz and the REAL 92.3 FM street team will also be joining in on the festivities. Attendees are invite to enjoy&nbsp\;holiday cookies\, warm beverages\, face painting\, and silent disco. The first 100 shoppers in line will get a photo with Danny Trejo. Shoppers must provide camera or personal phone for photos.&nbsp\;&nbsp\;</span></span></span><br />\n&nbsp\;
LOCATION:The Shops at Montebello - Center Court 2134 Montebello Town Cir. Montebello\, CA 90640
UID:e.1156.3477
SEQUENCE:3
DTSTAMP:20260419T160128Z
URL:https://www.montebellochamber.org/events/details/tree-lighting-ceremony-at-the-shops-at-montebello-3477
END:VEVENT

END:VCALENDAR
