BEGIN:VCALENDAR
VERSION:2.0
PRODID:-//ChamberMaster//Event Calendar 2.0//EN
METHOD:PUBLISH
X-PUBLISHED-TTL:P3D
REFRESH-INTERVAL:P3D
CALSCALE:GREGORIAN
BEGIN:VEVENT
DTSTART:20181031T220000Z
DTEND:20181101T000000Z
X-MICROSOFT-CDO-ALLDAYEVENT:FALSE
SUMMARY:Trick or Treat at The Shops at Montebello
DESCRIPTION:Trick or treat at The Shops at Montebello for children ages 3 to 10.  Look for the orange pumpkin sign at participating retailers.  Stop by Simon Guest Services in Center Court for a special treat.  Limit one per child
X-ALT-DESC;FMTTYPE=text/html:Trick or treat at The Shops at Montebello for children ages 3 to 10.&nbsp\; Look for the orange pumpkin sign at participating retailers.&nbsp\; Stop by Simon Guest Services in Center Court for a special treat.&nbsp\; Limit one per child&nbsp\;
LOCATION:The Shops of Montebello 2134 Montebello Town Center Montebello\, CA 90640
UID:e.1156.3098
SEQUENCE:3
DTSTAMP:20260419T185529Z
URL:https://www.montebellochamber.org/events/details/trick-or-treat-at-the-shops-at-montebello-3098
END:VEVENT

END:VCALENDAR
