BEGIN:VCALENDAR
VERSION:2.0
PRODID:-//ChamberMaster//Event Calendar 2.0//EN
METHOD:PUBLISH
X-PUBLISHED-TTL:P3D
REFRESH-INTERVAL:P3D
CALSCALE:GREGORIAN
BEGIN:VEVENT
DTSTART:20181018T020000Z
DTEND:20181018T040000Z
X-MICROSOFT-CDO-ALLDAYEVENT:FALSE
SUMMARY:Trivia Nights at Angry Horse Brewing
DESCRIPTION:Wednesday night is trivia night! Join us ever Wednesday in October for game play by King Trivia. The night starts at 7pm. It's free to play and prizes are at stake!\n\nTrivia will be played in teams and there are 7 rounds. For more details about game play or to register your team in the King Trivia League\, visit their website.\n\nhttps://www.kingtrivia.com/featured/king-trivia-faqs/
X-ALT-DESC;FMTTYPE=text/html:Wednesday night is trivia night! Join us ever Wednesday in October for game play by King Trivia. The night starts at 7pm. It&#39\;s free to play and prizes are at stake!<br />\nTrivia will be played in teams and there are 7 rounds. For more details about game play or to register your team in the King Trivia League\, visit their website.<br />\nhttps://www.kingtrivia.com/featured/king-trivia-faqs/
LOCATION:Angry Horse Brewing 603 W. Whittier Blvd. Montebello\, CA 90640 (Parking lot located behind the building)
UID:e.1156.2881
SEQUENCE:3
DTSTAMP:20260419T202630Z
URL:https://www.montebellochamber.org/events/details/trivia-nights-at-angry-horse-brewing-10-17-2018-2881
END:VEVENT

END:VCALENDAR
