BEGIN:VCALENDAR
VERSION:2.0
PRODID:-//ChamberMaster//Event Calendar 2.0//EN
METHOD:PUBLISH
X-PUBLISHED-TTL:P3D
REFRESH-INTERVAL:P3D
CALSCALE:GREGORIAN
BEGIN:VEVENT
DTSTART:20181017T170000Z
DTEND:20181017T180000Z
X-MICROSOFT-CDO-ALLDAYEVENT:FALSE
SUMMARY:Understanding Medicare
DESCRIPTION:Congresswoman Linda Sanchez - California 38th District\n\nUnderstanding Medicare\n\nA representative from the Center for Healthcare Rights will discuss:\n\n	Changes in health care that affect those enrolled in Medicare\n	Steps to enroll in different Medicare plans\n	Medicare and Medi-Cal enrollment options
X-ALT-DESC;FMTTYPE=text/html:Congresswoman Linda Sanchez - California 38th District<br />\nUnderstanding Medicare<br />\nA representative from the Center for Healthcare Rights will discuss:\n<ul>\n	<li>Changes in health care that affect those enrolled in Medicare</li>\n	<li>Steps to enroll in different Medicare plans</li>\n	<li>Medicare and Medi-Cal enrollment options</li>\n</ul>\n
LOCATION:Pico Rivera Senior Center 9200 Mines Ave. Pico Rivera\, CA 90660
UID:e.1156.2876
SEQUENCE:3
DTSTAMP:20260419T184924Z
URL:https://www.montebellochamber.org/events/details/understanding-medicare-2876
END:VEVENT

END:VCALENDAR
