BEGIN:VCALENDAR
VERSION:2.0
PRODID:-//ChamberMaster//Event Calendar 2.0//EN
METHOD:PUBLISH
X-PUBLISHED-TTL:P3D
REFRESH-INTERVAL:P3D
CALSCALE:GREGORIAN
BEGIN:VEVENT
DTSTART;VALUE=DATE:20250219
DTEND;VALUE=DATE:20250220
TRANSP:TRANSPARENT
X-MICROSOFT-CDO-ALLDAYEVENT:TRUE
SUMMARY:Unify Free Financial Education Webinars
DESCRIPTION:Unify Financial Credit Union\n\nFree Financial Education Webinars\n\nSchedule a One-On-One Visit or Call\n\nJoin your fellow Associates and other Unify Members in a monthly group session to ask questions and learn about all and anything UNIFY! This live\, interactive session is led by an experienced Senior Business Development Representative. Come ready with your questions!
X-ALT-DESC;FMTTYPE=text/html:Unify Financial Credit Union<br />\nFree Financial Education Webinars<br />\nSchedule a One-On-One Visit or Call<br />\nJoin your fellow Associates and other Unify Members in a monthly group session to ask questions and learn about all and anything UNIFY! This live\, interactive session is led by an experienced Senior Business Development Representative. Come ready with your questions!<br />\n&nbsp\;
LOCATION:Visit a branch Call (877) 254-9238 RSVP for February today! https://www.unifyfcu.com/learn-plan-grow
UID:e.1156.4840
SEQUENCE:3
DTSTAMP:20260423T133749Z
URL:https://www.montebellochamber.org/events/details/unify-free-financial-education-webinars-4840
END:VEVENT

END:VCALENDAR
