BEGIN:VCALENDAR
VERSION:2.0
PRODID:-//ChamberMaster//Event Calendar 2.0//EN
METHOD:PUBLISH
X-PUBLISHED-TTL:P3D
REFRESH-INTERVAL:P3D
CALSCALE:GREGORIAN
BEGIN:VEVENT
DTSTART:20140605T180000Z
DTEND:20140605T213000Z
X-MICROSOFT-CDO-ALLDAYEVENT:FALSE
SUMMARY:University of Phoenix Human Services Career Exploration
DESCRIPTION:Explore career options in human services \n\n\n\nJoin us at a Career Exploration day where you can gain insight into the local job market scene and participate in workshops to improve your marketability. Hear from subject matter experts as they share insight on potential career opportunities with a Human Services degree - whether it's in private practice\, agencies and community organizations. Get tips on what employers are looking for in the Human Services industry. These are complimentary symposiums\, hosted by University of Phoenix Southern California Campus College of Social Sciences that will take place at the Gardena Learning Center. \n\nNo matter where you are in your career path   just starting out or advancing in your\n\nfield   these events can help you progress in the direction you want to go.\n\n \n\nThursday\, June 5\, 2014\n\n11:00 am - 2:30 pm\n\nRegistration starts at 10:30 am\n\n  \n\nGardena Learning Center \n\n1515 W. 190th St\, Suite 200 \n\nGardena\, CA 90248\n\n \n\nHighlights\n\nHear from our lead faculty speaking about opportunities in the public sector and job opportunities with our youth.\n\nExplore various job opportunities in today's market with a degree in human services or counseling.\n\nGet tips on resume writing\, interview skills\, how to effectively market yourself\, no-cost Phoenix Career Services to help you uncover labor market data for jobs you want to pursue or determine which field fits you best.\n\nDiscuss the easy transition into the master degree programs.\n\n\n\nRSVP now at http://uopxsoutherncalifornia.eventbrite.com and invite a friend!\n\n\n\nFor more information\, please contact torye.nguyen@phoenix.edu or 714.338.7444.\n\n \n\nSpeakers\n\n  \n\n"Advancing Your Career Through Education" - Dr. Linda Joyce Johnson is a native of Los Angeles\, California. She earned Bachelor and Master of Arts degrees from California State University\, Fullerton\, a Master's degree in Education\, with an emphasis in Counseling and two Pupil Personnel Service Credentials in School Psychology and Counseling from California State University\, Dominguez Hills. Dr. Johnson also earned a doctorate degree in Psychology from Alliant International University\, formerly California School of Professional Psychology. Dr. Johnson is currently attending the University of Phoenix pursuing a second doctorate degree in Educational Leadership in the School of Advanced Studies. She is a Nationally Certified Counselor (NCC) and is employed as a School Psychologist & Behavior Specialist with the AVUHS District in Lancaster\, California. Dr. Johnson has an extensive background in Early Childhood Education with special emphasis in therapeutic interventions and teaching experience at the pre-Kindergarten through 12th grade levels. \n\n\n\n\n\n\n\n"Human Services Jobs with Counties" - Sheree Summers is a Staff Development Officer and a licensed Marriage and Family Therapist with RCDMH. She has worked in the field of mental health for the past 8 years and has served in public mental health since 2007. She also has experience in inpatient chemical dependency programs\, school counseling and career counseling. As a Staff Development Officer\, Sheree trains several workshops including Recovery Management\, Motivational Interviewing\, Communication and Counseling\, Professional Development\, Recovery Model\, Non-violent Crisis Interventions and other community presentations. In addition to training\, Sheree coordinates two workforce development programs for RCDMH. The Graduate Internship\, Field and Traineeship (GIFT) Program prepares graduate-level interns for work in public mental health. The Clinical Licensure Advancement and Support (CLAS) Program supports department pre-licensed clinicians in their journey toward state licensure.\n\n \n\n"Opportunities in Public Sectors and With Our Youth"- Dianne E. Smith\, MFT has been a licensed therapist for over 30 years and has experience in all levels of care from state hospitals to private practice. She has worked both in the public sector as well as the private sector with her passion being working with foster children.  As a lead faculty for University of Phoenix she teaches in all three programs (psychology\, human services and counseling) and enjoys helping students find their career paths.\n\n \n\n"Resume and Interview Skills Workshop"- Dr. Roman Shain is a licensed Marriage and Family Therapist\, Licensed Professional Clinical Counselor\, National Counselor Certified\, and CAMFT Certified Supervisor. He is currently managing Children's Field Capable Clinical Services of SFVCMHC Inc.\n\nDr. Shain has been teaching courses in psychology\, human services\, and counseling at University of Phoenix since 2007. In January 2012\, he was presented with UOPX Distinguished Faculty/Leader in Experiential Education Award. Since 2013\, he's been acting as a Lead Faculty/Faculty Advisor. In addition\, Dr. Shain teaches Post Modern Family Therapy Theories and Counseling Psychometrics courses.\n\nDr. Shain co-chairs Ethics committee on the Board of California Association of Professional Counselors. He has developed and conducted numerous seminars on crisis management\, critical clinical thinking\, and creative interventions. His research was featured in Journal of Family Therapy.\n\n"Phoenix Career Services Workshop" - Presenter bio coming soon!
X-ALT-DESC;FMTTYPE=text/html:<p class="MsoNormal" style="mso-margin-top-alt:auto\;mso-margin-bottom-alt:auto\;\nline-height:normal\;mso-outline-level:1"><strong style="line-height: 1.6\;"><span style="font-family:&quot\;Arial&quot\;\,&quot\;sans-serif&quot\;\;color:#92278F">Explore career options in human services&nbsp\;</span></strong></p>\n\n<p><br />\n<span style="font-family:&quot\;Arial&quot\;\,&quot\;sans-serif&quot\;\;color:#666666">Join us at a Career Exploration day where you can gain insight into the local job market scene and participate in workshops to improve your marketability. Hear from subject matter experts as they share insight on potential career opportunities with a Human Services degree - whether it&#39\;s in private practice\, agencies and community organizations. Get tips on what employers are looking for in the Human Services industry. These are complimentary symposiums\, hosted by University of Phoenix Southern California Campus College of Social Sciences that will take place at the Gardena Learning Center. </span><span style="font-family:&quot\;Arial&quot\;\,&quot\;sans-serif&quot\;"><o:p></o:p></span></p>\n\n<p><span style="font-family:&quot\;Arial&quot\;\,&quot\;sans-serif&quot\;\;color:#666666">No matter where you are in your career path &ndash\; just starting out or advancing in your<br />\nfield &ndash\; these events can help you progress in the direction you want to go.</span><span style="font-family:&quot\;Arial&quot\;\,&quot\;sans-serif&quot\;"><o:p></o:p></span></p>\n\n<p><span style="font-family:&quot\;Arial&quot\;\,&quot\;sans-serif&quot\;">&nbsp\;</span></p>\n\n<p><span style="font-family:&quot\;Arial&quot\;\,&quot\;sans-serif&quot\;\;color:#666666">Thursday\, June 5\, 2014<br />\n11:00 am - 2:30 pm<br />\nRegistration starts at 10:30 am</span><span style="font-family:&quot\;Arial&quot\;\,&quot\;sans-serif&quot\;"><o:p></o:p></span></p>\n\n<p><span style="font-family:&quot\;Arial&quot\;\,&quot\;sans-serif&quot\;">&nbsp\;&nbsp\;<o:p></o:p></span></p>\n\n<p><strong><span style="font-family:&quot\;Arial&quot\;\,&quot\;sans-serif&quot\;\;color:#666666">Gardena Learning Center </span></strong><br />\n<span style="font-family:&quot\;Arial&quot\;\,&quot\;sans-serif&quot\;\;color:#666666">1515 W. 190th St\, Suite 200&nbsp\;<br />\nGardena\, CA 90248</span><span style="font-family:&quot\;Arial&quot\;\,&quot\;sans-serif&quot\;"><o:p></o:p></span></p>\n\n<p><span style="font-family:&quot\;Arial&quot\;\,&quot\;sans-serif&quot\;">&nbsp\;</span></p>\n\n<p><strong><span style="font-family:&quot\;Arial&quot\;\,&quot\;sans-serif&quot\;\;color:#92278F">Highlights</span></strong><span style="font-family:&quot\;Arial&quot\;\,&quot\;sans-serif&quot\;"><o:p></o:p></span></p>\n\n<p><span style="font-family:&quot\;Arial&quot\;\,&quot\;sans-serif&quot\;\;color:gray">Hear from our lead faculty speaking about opportunities in the public sector and job opportunities with our youth.</span><span style="font-family:&quot\;Arial&quot\;\,&quot\;sans-serif&quot\;"><o:p></o:p></span></p>\n\n<p><span style="font-family:&quot\;Arial&quot\;\,&quot\;sans-serif&quot\;\;color:gray">Explore various job opportunities in today&#39\;s market with a degree in human services or counseling.</span><span style="font-family:&quot\;Arial&quot\;\,&quot\;sans-serif&quot\;"><o:p></o:p></span></p>\n\n<p><span style="font-family:&quot\;Arial&quot\;\,&quot\;sans-serif&quot\;\;color:gray">Get tips on resume writing\, interview skills\, how to effectively market yourself\, no-cost Phoenix Career Services to help you uncover labor market data for jobs you want to pursue or determine which field fits you best.</span><span style="font-family:\n&quot\;Arial&quot\;\,&quot\;sans-serif&quot\;"><o:p></o:p></span></p>\n\n<p><span style="font-family:&quot\;Arial&quot\;\,&quot\;sans-serif&quot\;\;color:gray">Discuss the easy transition into the master degree programs.</span><span style="font-family:\n&quot\;Arial&quot\;\,&quot\;sans-serif&quot\;"><o:p></o:p></span></p>\n\n<p><br />\n<span style="font-family:&quot\;Arial&quot\;\,&quot\;sans-serif&quot\;"><strong><span style="color: rgb(102\, 102\, 102)\;">RSVP now at <a href="http://uopxsoutherncalifornia.eventbrite.com/"><span style="font-weight:\nnormal">http://uopxsoutherncalifornia.eventbrite.com</span></a> and invite a friend!</span></strong><o:p></o:p></span></p>\n\n<p><br />\n<span style="font-family:&quot\;Arial&quot\;\,&quot\;sans-serif&quot\;\;color:#666666">For more information\, please contact torye.nguyen@phoenix.edu or 714.338.7444.</span><span style="font-family:&quot\;Arial&quot\;\,&quot\;sans-serif&quot\;"><o:p></o:p></span></p>\n\n<p><span style="font-family:&quot\;Arial&quot\;\,&quot\;sans-serif&quot\;">&nbsp\;<o:p></o:p></span></p>\n\n<p><strong><span style="font-family:&quot\;Arial&quot\;\,&quot\;sans-serif&quot\;\;color:#666666">Speakers</span></strong><span style="font-family:&quot\;Arial&quot\;\,&quot\;sans-serif&quot\;"><o:p></o:p></span></p>\n\n<p><span style="font-family:&quot\;Arial&quot\;\,&quot\;sans-serif&quot\;">&nbsp\;<strong><span style="color: rgb(146\, 39\, 143)\;">&nbsp\;</span></strong><o:p></o:p></span></p>\n\n<p style="margin-bottom:0in\;margin-bottom:.0001pt"><strong><span style="font-family:&quot\;Arial&quot\;\,&quot\;sans-serif&quot\;\;color:#92278F">&quot\;Advancing Your Career Through Education&quot\; - </span></strong><strong><span style="font-family:&quot\;Arial&quot\;\,&quot\;sans-serif&quot\;\;color:#666666">Dr. Linda Joyce Johnson</span></strong><span style="font-family:&quot\;Arial&quot\;\,&quot\;sans-serif&quot\;\;color:#666666"> is a native of Los Angeles\, California. She earned Bachelor and Master of Arts degrees from California State University\, Fullerton\, a Master&#39\;s degree in Education\, with an emphasis in Counseling and two Pupil Personnel Service Credentials in School Psychology and Counseling from California State University\, Dominguez Hills. Dr. Johnson also earned a doctorate degree in Psychology from Alliant International University\, formerly California School of Professional Psychology. Dr. Johnson is currently attending the University of Phoenix pursuing a second doctorate degree in Educational Leadership in the School of Advanced Studies. She is a Nationally Certified Counselor (NCC) and is employed as a School Psychologist &amp\; Behavior Specialist with the AVUHS District in Lancaster\, California. Dr. Johnson has an extensive background in Early Childhood Education with special emphasis in therapeutic interventions and teaching experience at the pre-Kindergarten through 12th grade levels.&nbsp\;</span><span style="font-family:&quot\;Arial&quot\;\,&quot\;sans-serif&quot\;"><o:p></o:p></span></p>\n\n<p style="margin-bottom:0in\;margin-bottom:.0001pt"><br />\n<span style="font-family:\n&quot\;Arial&quot\;\,&quot\;sans-serif&quot\;\;color:#666666"><!--[if !supportLineBreakNewLine]--><br />\n<!--[endif]--></span><span style="font-family:&quot\;Arial&quot\;\,&quot\;sans-serif&quot\;"><o:p></o:p></span></p>\n\n<p style="margin-bottom:0in\;margin-bottom:.0001pt"><strong><span style="font-family:&quot\;Arial&quot\;\,&quot\;sans-serif&quot\;\;color:#92278F">&quot\;Human Services Jobs with Counties&quot\; - </span></strong><strong><span style="font-family:\n&quot\;Arial&quot\;\,&quot\;sans-serif&quot\;\;color:#666666">Sheree Summers</span></strong><span style="font-family:&quot\;Arial&quot\;\,&quot\;sans-serif&quot\;\;color:#666666"> is a Staff Development Officer and a licensed Marriage and Family Therapist with RCDMH. She has worked in the field of mental health for the past 8 years and has served in public mental health since 2007. She also has experience in inpatient chemical dependency programs\, school counseling and career counseling. As a Staff Development Officer\, Sheree trains several workshops including Recovery Management\, Motivational Interviewing\, Communication and Counseling\, Professional Development\, Recovery Model\, Non-violent Crisis Interventions and other community presentations. In addition to training\, Sheree coordinates two workforce development programs for RCDMH. The Graduate Internship\, Field and Traineeship (GIFT) Program prepares graduate-level interns for work in public mental health. The Clinical Licensure Advancement and Support (CLAS) Program supports department pre-licensed clinicians in their journey toward state licensure.</span><span style="font-family:&quot\;Arial&quot\;\,&quot\;sans-serif&quot\;"><o:p></o:p></span></p>\n\n<p style="margin-bottom:0in\;margin-bottom:.0001pt"><span style="font-family:\n&quot\;Arial&quot\;\,&quot\;sans-serif&quot\;">&nbsp\;<o:p></o:p></span></p>\n\n<p style="margin-bottom:0in\;margin-bottom:.0001pt"><strong><span style="font-family:&quot\;Arial&quot\;\,&quot\;sans-serif&quot\;\;color:#92278F">&quot\;Opportunities in Public Sectors and With Our Youth&quot\;-&nbsp\;</span></strong><strong><span style="font-family:&quot\;Arial&quot\;\,&quot\;sans-serif&quot\;\;color:#666666">Dianne E. Smith</span></strong><span style="font-family:&quot\;Arial&quot\;\,&quot\;sans-serif&quot\;\;color:#666666">\, MFT has been a licensed therapist for over 30 years and has experience in all levels of care from state hospitals to private practice. She has worked both in the public sector as well as the private sector with her passion being working with foster children.&nbsp\; As a lead faculty for University of Phoenix she teaches in all three programs (psychology\, human services and counseling) and enjoys helping students find their career paths.</span><span style="font-family:&quot\;Arial&quot\;\,&quot\;sans-serif&quot\;"><o:p></o:p></span></p>\n\n<p style="margin-bottom:0in\;margin-bottom:.0001pt"><span style="font-family:\n&quot\;Arial&quot\;\,&quot\;sans-serif&quot\;">&nbsp\;<o:p></o:p></span></p>\n\n<p style="margin-bottom:0in\;margin-bottom:.0001pt"><strong><span style="font-family:&quot\;Arial&quot\;\,&quot\;sans-serif&quot\;\;color:#92278F">&quot\;Resume and Interview Skills Workshop&quot\;-&nbsp\;</span></strong><span style="font-family:\n&quot\;Arial&quot\;\,&quot\;sans-serif&quot\;\;color:#666666">Dr. Roman Shain is a licensed Marriage and Family Therapist\, Licensed Professional Clinical Counselor\, National Counselor Certified\, and CAMFT Certified Supervisor. He is currently managing Children&#39\;s Field Capable Clinical Services of SFVCMHC Inc.</span><span style="font-family:\n&quot\;Arial&quot\;\,&quot\;sans-serif&quot\;"><o:p></o:p></span></p>\n\n<p style="margin-bottom:0in\;margin-bottom:.0001pt"><span style="font-family:\n&quot\;Arial&quot\;\,&quot\;sans-serif&quot\;\;color:#666666">Dr. Shain has been teaching courses in psychology\, human services\, and counseling at University of Phoenix since 2007. In January 2012\, he was presented with UOPX Distinguished Faculty/Leader in Experiential Education Award. Since 2013\, he&#39\;s been acting as a Lead Faculty/Faculty Advisor. In addition\, Dr. Shain teaches Post Modern Family Therapy Theories and Counseling Psychometrics courses.</span><span style="font-family:&quot\;Arial&quot\;\,&quot\;sans-serif&quot\;"><o:p></o:p></span></p>\n\n<p style="margin-bottom:0in\;margin-bottom:.0001pt"><span style="font-family:\n&quot\;Arial&quot\;\,&quot\;sans-serif&quot\;\;color:#666666">Dr. Shain co-chairs Ethics committee on the Board of California Association of Professional Counselors. He has developed and conducted numerous seminars on crisis management\, critical clinical thinking\, and creative interventions. His research was featured in&nbsp\;<em>Journal of Family Therapy.</em></span><span style="font-family:&quot\;Arial&quot\;\,&quot\;sans-serif&quot\;"><o:p></o:p></span></p>\n\n<p style="margin-bottom:0in\;margin-bottom:.0001pt"><strong><span style="font-family:&quot\;Arial&quot\;\,&quot\;sans-serif&quot\;\;color:#92278F">&quot\;Phoenix Career Services Workshop&quot\; - </span></strong><span style="font-family:&quot\;Arial&quot\;\,&quot\;sans-serif&quot\;\;\ncolor:#666666">Presenter bio coming soon!</span><span style="font-family:&quot\;Arial&quot\;\,&quot\;sans-serif&quot\;"><o:p></o:p></span></p>\n\n<p class="MsoNormal"><span style="font-size:12.0pt\;line-height:115%\;font-family:\n&quot\;Arial&quot\;\,&quot\;sans-serif&quot\;"><o:p>&nbsp\;</o:p></span></p>\n
LOCATION:Gardena Learning Center 1515 W. 190th St\, Suite 200 Gardena\, CA 90248
UID:e.1156.999
SEQUENCE:3
DTSTAMP:20260419T143708Z
URL:https://www.montebellochamber.org/events/details/university-of-phoenix-human-services-career-exploration-06-05-2014-999
END:VEVENT

END:VCALENDAR
