BEGIN:VCALENDAR
VERSION:2.0
PRODID:-//ChamberMaster//Event Calendar 2.0//EN
METHOD:PUBLISH
X-PUBLISHED-TTL:P3D
REFRESH-INTERVAL:P3D
CALSCALE:GREGORIAN
BEGIN:VEVENT
DTSTART:20120501T153000Z
DTEND:20120504T000000Z
X-MICROSOFT-CDO-ALLDAYEVENT:FALSE
SUMMARY:USC Marshall Executive Education - Strategic Management for Competitive Advantag
DESCRIPTION:The Strategic Management program will equip participants with critical thinking skills that allow them to make strategic decisions in their ever-changing work environments. This program will present the core areas of strategy and develop participants' skills for translating strategic tactics in to real-world implementation. Participants will complete the program with an understanding of how to make effective decisions that will lead to long term achievement.
X-ALT-DESC;FMTTYPE=text/html:<meta content="Word.Document" name="ProgId" />\n<meta content="Microsoft Word 14" name="Generator" />\n<meta content="Microsoft Word 14" name="Originator" />\n<link href="file:///C:%5CDOCUME%7E1%5CEXECED%7E1%5CLOCALS%7E1%5CTemp%5Cmsohtmlclip1%5C01%5Cclip_filelist.xml" rel="File-List" />\n<link href="file:///C:%5CDOCUME%7E1%5CEXECED%7E1%5CLOCALS%7E1%5CTemp%5Cmsohtmlclip1%5C01%5Cclip_themedata.thmx" rel="themeData" />\n<link href="file:///C:%5CDOCUME%7E1%5CEXECED%7E1%5CLOCALS%7E1%5CTemp%5Cmsohtmlclip1%5C01%5Cclip_colorschememapping.xml" rel="colorSchemeMapping" />\n<style type="text/css">\n<!--\n /* Font Definitions */\n @font-face\n	{font-family:Calibri\;\n	panose-1:2 15 5 2 2 2 4 3 2 4\;\n	mso-font-charset:0\;\n	mso-generic-font-family:swiss\;\n	mso-font-pitch:variable\;\n	mso-font-signature:-520092929 1073786111 9 0 415 0\;}\n /* Style Definitions */\n p.MsoNormal\, li.MsoNormal\, div.MsoNormal\n	{mso-style-unhide:no\;\n	mso-style-qformat:yes\;\n	mso-style-parent:""\;\n	margin-top:0in\;\n	margin-right:0in\;\n	margin-bottom:10.0pt\;\n	margin-left:0in\;\n	line-height:115%\;\n	mso-pagination:widow-orphan\;\n	font-size:11.0pt\;\n	font-family:"Calibri"\,"sans-serif"\;\n	mso-ascii-font-family:Calibri\;\n	mso-ascii-theme-font:minor-latin\;\n	mso-fareast-font-family:Calibri\;\n	mso-fareast-theme-font:minor-latin\;\n	mso-hansi-font-family:Calibri\;\n	mso-hansi-theme-font:minor-latin\;\n	mso-bidi-font-family:"Times New Roman"\;\n	mso-bidi-theme-font:minor-bidi\;}\n.MsoChpDefault\n	{mso-style-type:export-only\;\n	mso-default-props:yes\;\n	font-family:"Calibri"\,"sans-serif"\;\n	mso-ascii-font-family:Calibri\;\n	mso-ascii-theme-font:minor-latin\;\n	mso-fareast-font-family:Calibri\;\n	mso-fareast-theme-font:minor-latin\;\n	mso-hansi-font-family:Calibri\;\n	mso-hansi-theme-font:minor-latin\;\n	mso-bidi-font-family:"Times New Roman"\;\n	mso-bidi-theme-font:minor-bidi\;}\n.MsoPapDefault\n	{mso-style-type:export-only\;\n	margin-bottom:10.0pt\;\n	line-height:115%\;}\n@page WordSection1\n	{size:8.5in 11.0in\;\n	margin:1.0in 1.0in 1.0in 1.0in\;\n	mso-header-margin:.5in\;\n	mso-footer-margin:.5in\;\n	mso-paper-source:0\;}\ndiv.WordSection1\n	{page:WordSection1\;}\n--></style>\n<p class="MsoNormal">\n	The Strategic Management program will equip participants with critical thinking skills that allow them to make strategic decisions in their ever-changing work environments. This program will present the core areas of strategy and develop participants&rsquo\; skills for translating strategic tactics in to real-world implementation. Participants will complete the program with an understanding of how to make effective decisions that will lead to long term achievement.<o:p></o:p></p>\n
LOCATION:University of Southern California\, University Park Campus
UID:e.1156.629
SEQUENCE:3
DTSTAMP:20260420T084241Z
URL:https://www.montebellochamber.org/events/details/usc-marshall-executive-education-strategic-management-for-competitive-advantag-05-01-2012-629
END:VEVENT

END:VCALENDAR
