BEGIN:VCALENDAR
VERSION:2.0
PRODID:-//ChamberMaster//Event Calendar 2.0//EN
METHOD:PUBLISH
X-PUBLISHED-TTL:P3D
REFRESH-INTERVAL:P3D
CALSCALE:GREGORIAN
BEGIN:VEVENT
DTSTART;VALUE=DATE:20150120
DTEND;VALUE=DATE:20150301
TRANSP:TRANSPARENT
X-MICROSOFT-CDO-ALLDAYEVENT:TRUE
SUMMARY:VALENTINE'S DAY SALE
DESCRIPTION:SHOP OUR SALE & GIVE HER WHAT SHE REALLY WANTS FOR VALENTINE'S DAY!\n\n\n~ Great jewelry gift ideas up to 55% off!\n\n~ Free movie tickets with purchases of $100 or more!*\n\n~ Free seasonal gift wrapping!\n\n\n\n*Minimum amount excludes taxes or payments made towards layaways\, repairs or special orders. Limit one set of tickets per customer. Offer good through 2/28/2015.
X-ALT-DESC;FMTTYPE=text/html:<div style="text-align: center\;"><strong>SHOP OUR SALE &amp\; GIVE HER WHAT SHE REALLY WANTS FOR VALENTINE&#39\;S DAY!</strong></div>\n<br />\n~ Great jewelry gift ideas up to 55% off!<br />\n~ Free movie tickets with purchases of $100 or more!*<br />\n~ Free seasonal gift wrapping!<br />\n<br />\n<em>*Minimum amount excludes taxes or payments made towards layaways\, repairs or special orders. Limit one set of tickets per customer. Offer good through 2/28/2015.</em>
LOCATION:Goldex Fine Jewelry 2445 W. Whittier Blvd.\, #201 Montebello\, CA 90640
UID:e.1156.1357
SEQUENCE:3
DTSTAMP:20260419T143516Z
URL:https://www.montebellochamber.org/events/details/valentine-s-day-sale-01-20-2015-1357
END:VEVENT

END:VCALENDAR
