BEGIN:VCALENDAR
VERSION:2.0
PRODID:-//ChamberMaster//Event Calendar 2.0//EN
METHOD:PUBLISH
X-PUBLISHED-TTL:P3D
REFRESH-INTERVAL:P3D
CALSCALE:GREGORIAN
BEGIN:VEVENT
DTSTART:20140208T210000Z
DTEND:20140209T000000Z
X-MICROSOFT-CDO-ALLDAYEVENT:FALSE
SUMMARY:Valentines Vendors event
DESCRIPTION:Valentines day gift shopping from small business student vendors\, jewelry\, clothing\, cupcakes\, homemade jewelry & Nachos Come out and support young student entrepreneurs
X-ALT-DESC;FMTTYPE=text/html:Valentines day gift shopping from small business student vendors\, jewelry\, clothing\, cupcakes\, homemade jewelry &amp\; Nachos Come out and support young student entrepreneurs
LOCATION:923 W. Whittier Blvd Montebello CA 90640
UID:e.1156.983
SEQUENCE:3
DTSTAMP:20260419T202252Z
URL:https://www.montebellochamber.org/events/details/valentines-vendors-event-02-08-2014-983
END:VEVENT

END:VCALENDAR
