BEGIN:VCALENDAR
VERSION:2.0
PRODID:-//ChamberMaster//Event Calendar 2.0//EN
METHOD:PUBLISH
X-PUBLISHED-TTL:P3D
REFRESH-INTERVAL:P3D
CALSCALE:GREGORIAN
BEGIN:VEVENT
DTSTART:20180714T160000Z
DTEND:20180714T200000Z
X-MICROSOFT-CDO-ALLDAYEVENT:FALSE
SUMMARY:Veteran Resource Expo
DESCRIPTION:Veteran Resource Expo\n\n\n\nResources Available On-Site:\n\nHousing Assistance   Homeless Resources\n\nEmployment   West LA VA Assistance\n\nVA Benefits\, Enrollment\, Medical\, Mental Health\n\n  DPSS   Legal Assistance   Family Services\n\nWomen's Resources   Dental & Eye Care Supplies\n\nVoter Registration County Recorder   Spiritual\n\nCare   Motor Vehicle Division   Military Records\n\n  Counseling Support Groups   Child Support\n\nFamily Assistance   Social Security\n\nPet Shots   Pet Supplies   Clothing Haircuts\n\nHygiene Supplies   Food\n\n\n\nExhibitor\, please attend the meeting or email your information to:\n\nnewhopeliving@nhel.com
X-ALT-DESC;FMTTYPE=text/html:<div style="text-align: center\;">Veteran Resource Expo<br />\n<br />\n<u>Resources Available On-Site:</u><br />\nHousing Assistance&nbsp\;&bull\; Homeless Resources<br />\nEmployment &bull\; West LA VA Assistance<br />\nVA Benefits\, Enrollment\, Medical\, Mental Health<br />\n&bull\; DPSS&nbsp\;<span style="text-align: center\;">&bull\; Legal Assistance&nbsp\;&bull\; Family Services<br />\nWomen&#39\;s Resources&nbsp\;&bull\; Dental &amp\; Eye Care Supplies<br />\nVoter Registration County Recorder&nbsp\;&bull\; Spiritual<br />\nCare&nbsp\;&bull\; Motor Vehicle Division&nbsp\;&bull\; Military Records<br />\n&bull\; Counseling Support Groups&nbsp\;&bull\; Child Support<br />\nFamily Assistance&nbsp\;&bull\; Social Security<br />\nPet Shots&nbsp\;&bull\; Pet Supplies&nbsp\;&bull\; Clothing Haircuts</span><br />\nHygiene Supplies&nbsp\;<span style="text-align: center\;">&bull\; Food</span><br />\n<br />\n<em><span style="color:#FF0000\;">Exhibitor\, please attend the meeting or email your information to:</span></em><br />\nnewhopeliving@nhel.com</div>\n
LOCATION:600 S. Maple Ave. Montebello\, CA 90640
UID:e.1156.2559
SEQUENCE:3
DTSTAMP:20260419T184944Z
URL:https://www.montebellochamber.org/events/details/veteran-resource-expo-2559
END:VEVENT

END:VCALENDAR
