BEGIN:VCALENDAR
VERSION:2.0
PRODID:-//ChamberMaster//Event Calendar 2.0//EN
METHOD:PUBLISH
X-PUBLISHED-TTL:P3D
REFRESH-INTERVAL:P3D
CALSCALE:GREGORIAN
BEGIN:VEVENT
DTSTART:20181111T190000Z
DTEND:20181111T200000Z
X-MICROSOFT-CDO-ALLDAYEVENT:FALSE
SUMMARY:Veteran's Day Ceremony
DESCRIPTION:Veteran's Day Ceremony Hosted by City of Montebello Recreation & Community Services\n\nJoin us in celebrating our Veterans at our annual ceremony.  This year our keynote speaker will be Josof Sanchez\, PFC U.S. Marines.
X-ALT-DESC;FMTTYPE=text/html:Veteran&#39\;s Day Ceremony Hosted by City of Montebello Recreation &amp\; Community Services<br />\nJoin us in celebrating our Veterans at our annual ceremony.&nbsp\; This year our keynote speaker will be Josof Sanchez\, PFC U.S. Marines.
LOCATION:Montebello City Park 1300 W. Whittier Blvd. Montebello\, CA 90640
UID:e.1156.3106
SEQUENCE:3
DTSTAMP:20260419T172616Z
URL:https://www.montebellochamber.org/events/details/veteran-s-day-ceremony-3106
END:VEVENT

END:VCALENDAR
