BEGIN:VCALENDAR
VERSION:2.0
PRODID:-//ChamberMaster//Event Calendar 2.0//EN
METHOD:PUBLISH
X-PUBLISHED-TTL:P3D
REFRESH-INTERVAL:P3D
CALSCALE:GREGORIAN
BEGIN:VEVENT
DTSTART:20171111T190000Z
DTEND:20171111T203000Z
X-MICROSOFT-CDO-ALLDAYEVENT:FALSE
SUMMARY:Veterans Day Tribute
DESCRIPTION:The city invites the community to its Veterans Day tribute at 11 a.m. Saturday at Montebello City Park.\n\nThe event\, coordinated by the city and the American Legion Post 272\, will include a performance by the Montebello High School Oiler Band\, and a keynote address by Dr. Julian Nava\, US Navy and a Veteran of World War II.
X-ALT-DESC;FMTTYPE=text/html:<h2 style="font-style:italic\;"><span style="font-size:14px"><span style="font-family:arial\,helvetica\,sans-serif">The city invites the community to its Veterans Day tribute at 11 a.m. Saturday at Montebello City Park.</span></span></h2>\n\n<h2 style="font-style:italic\;"><span style="font-size:14px"><span style="font-family:arial\,helvetica\,sans-serif">The event\, coordinated by the city and the American Legion Post 272\, will include a performance by the Montebello High School Oiler Band\, and a keynote address by Dr. Julian Nava\, US Navy and a Veteran of World War II.</span></span></h2>\n
LOCATION:Montebello City Park 1301 W. Whittier Blvd. Montebello\, CA 90640
UID:e.1156.2353
SEQUENCE:3
DTSTAMP:20260419T124308Z
URL:https://www.montebellochamber.org/events/details/veterans-day-tribute-2353
END:VEVENT

END:VCALENDAR
