BEGIN:VCALENDAR
VERSION:2.0
PRODID:-//ChamberMaster//Event Calendar 2.0//EN
METHOD:PUBLISH
X-PUBLISHED-TTL:P3D
REFRESH-INTERVAL:P3D
CALSCALE:GREGORIAN
BEGIN:VEVENT
DTSTART:20130511T210000Z
DTEND:20130511T220000Z
X-MICROSOFT-CDO-ALLDAYEVENT:FALSE
SUMMARY:Vietnamese Cooking with Chef Minnie Luong
DESCRIPTION:Do you like Vietnamese food? Come and learn how to make simple and delicious Vietnamese dishes with Chef Minnie Luong.
X-ALT-DESC;FMTTYPE=text/html:Do you like Vietnamese food? Come and learn how to make simple and delicious Vietnamese dishes with Chef Minnie Luong.
LOCATION:Montebello Library 1550 W. Beverly Blvd\, Montebello\, Ca 90640
UID:e.1156.703
SEQUENCE:3
DTSTAMP:20260419T130608Z
URL:https://www.montebellochamber.org/events/details/vietnamese-cooking-with-chef-minnie-luong-05-11-2013-703
END:VEVENT

END:VCALENDAR
