BEGIN:VCALENDAR
VERSION:2.0
PRODID:-//ChamberMaster//Event Calendar 2.0//EN
METHOD:PUBLISH
X-PUBLISHED-TTL:P3D
REFRESH-INTERVAL:P3D
CALSCALE:GREGORIAN
BEGIN:VEVENT
DTSTART:20150509T183000Z
DTEND:20150509T203000Z
X-MICROSOFT-CDO-ALLDAYEVENT:FALSE
SUMMARY:Vintage Tea Party with free lunch!! Saturday May 9\, 2015
DESCRIPTION:Let's have tea and lunch together! Join us for a family event (all ages welcome) Sat May 9\, 2015 for a free lunch and vintage tea party!
X-ALT-DESC;FMTTYPE=text/html:Let&#39\;s have tea and lunch together! Join us for a family event (all ages welcome) Sat May 9\, 2015 for a free lunch and vintage tea party!
LOCATION:Brookdale Central Whittier 8101 Painter Ave Whittier CA 90602
UID:e.1156.1389
SEQUENCE:3
DTSTAMP:20260419T202748Z
URL:https://www.montebellochamber.org/events/details/vintage-tea-party-with-free-lunch-saturday-may-9-2015-05-09-2015-1389
END:VEVENT

END:VCALENDAR
