BEGIN:VCALENDAR
VERSION:2.0
PRODID:-//ChamberMaster//Event Calendar 2.0//EN
METHOD:PUBLISH
X-PUBLISHED-TTL:P3D
REFRESH-INTERVAL:P3D
CALSCALE:GREGORIAN
BEGIN:VEVENT
DTSTART:20201010T170000Z
DTEND:20201010T180000Z
X-MICROSOFT-CDO-ALLDAYEVENT:FALSE
SUMMARY:Virtual Kids Club
DESCRIPTION:The Shops at Montebello + Las Mamacitas present Virtual Kids Club the 2nd Saturday of the month at 10am! Come Together virtually this fall for kid-friendly programs\, giveaways\, and FUN! Space is limited. \n\n\n\nJoin The Shops at Montebello for a D a de los Muertos celebration with @ConfettiFiesta?! The first 40 RSVPS will receive one FREE pi ata kit! The class will include facts and history of D a De Los Muertos. Confirmed registrants will be welcome to pick up their mini pi ata kit the Thursday (10/8) before the event! Kids and caretakers are welcome to join in for a time of celebration and crafts!
X-ALT-DESC;FMTTYPE=text/html:<b>The Shops at Montebello + Las Mamacitas present Virtual Kids Club the 2nd Saturday of the month at 10am! Come Together</b>&nbsp\;virtually this fall for kid-friendly programs\, giveaways\, and FUN! Space is limited.&nbsp\;<br />\n<br />\nJoin The Shops at Montebello for a D&iacute\;a de los Muertos celebration with @ConfettiFiesta?! The <u>first 40 RSVPS</u> will receive one FREE pi&ntilde\;ata kit! The class will include facts and history of D&iacute\;a De Los Muertos. Confirmed registrants will be welcome to pick up their mini pi&ntilde\;ata kit the Thursday (10/8) before the event! Kids and caretakers are welcome to join in for a time of celebration and crafts!&nbsp\;
LOCATION:Online Event
UID:e.1156.3772
SEQUENCE:3
DTSTAMP:20260423T052959Z
URL:https://www.montebellochamber.org/events/details/virtual-kids-club-3772
END:VEVENT

END:VCALENDAR
