BEGIN:VCALENDAR
VERSION:2.0
PRODID:-//ChamberMaster//Event Calendar 2.0//EN
METHOD:PUBLISH
X-PUBLISHED-TTL:P3D
REFRESH-INTERVAL:P3D
CALSCALE:GREGORIAN
BEGIN:VEVENT
DTSTART:20200611T210000Z
DTEND:20200611T210000Z
X-MICROSOFT-CDO-ALLDAYEVENT:FALSE
SUMMARY:Virtual Town Hall Meeting for Businesses by LA County America's Job Centers
DESCRIPTION:Virtual Town Hall Meeting for Businesses. The Los Angeles County America's Job Centers of California are here to assist your business with specialized services to ensure your success as we transition through our next phases in reopening our economy.  Attend this Town Hall Meeting to learn more about key services for businesses during this economic recovery.
X-ALT-DESC;FMTTYPE=text/html:Virtual Town Hall Meeting for Businesses. The Los Angeles County America&#39\;s Job Centers of California are here to assist your business with specialized services to ensure your success as we transition through our next phases in reopening our economy.&nbsp\; Attend this Town Hall Meeting to learn more about key services for businesses during this economic recovery.
LOCATION:Virtual Must RSVP using Eventbrite: https://bit.ly/2X9jm5V
UID:e.1156.3702
SEQUENCE:3
DTSTAMP:20260419T160957Z
URL:https://www.montebellochamber.org/events/details/virtual-town-hall-meeting-for-businesses-by-la-county-america-s-job-centers-3702
END:VEVENT

END:VCALENDAR
