BEGIN:VCALENDAR
VERSION:2.0
PRODID:-//ChamberMaster//Event Calendar 2.0//EN
METHOD:PUBLISH
X-PUBLISHED-TTL:P3D
REFRESH-INTERVAL:P3D
CALSCALE:GREGORIAN
BEGIN:VEVENT
DTSTART:20160521T150000Z
DTEND:20160521T200000Z
X-MICROSOFT-CDO-ALLDAYEVENT:FALSE
SUMMARY:Walk and Roll
DESCRIPTION:Come Join the Family Fun!\n\nHealth & Wellness-Information Booths - Class Exhibitions - Nutritional Demos - Kiddie Bike Rides - Food Vendors - Game Booths - Skate Exhibitions
X-ALT-DESC;FMTTYPE=text/html:Come Join the Family Fun!<br />\nHealth &amp\; Wellness-Information Booths - Class Exhibitions - Nutritional Demos - Kiddie Bike Rides - Food Vendors - Game Booths - Skate Exhibitions
LOCATION:Henry Acuna Park 1700 W. Victoria Ave
UID:e.1156.1474
SEQUENCE:3
DTSTAMP:20260419T215048Z
URL:https://www.montebellochamber.org/events/details/walk-and-roll-05-21-2016-1474
END:VEVENT

END:VCALENDAR
