BEGIN:VCALENDAR
VERSION:2.0
PRODID:-//ChamberMaster//Event Calendar 2.0//EN
METHOD:PUBLISH
X-PUBLISHED-TTL:P3D
REFRESH-INTERVAL:P3D
CALSCALE:GREGORIAN
BEGIN:VEVENT
DTSTART;VALUE=DATE:20200715
DTEND;VALUE=DATE:20200716
TRANSP:TRANSPARENT
X-MICROSOFT-CDO-ALLDAYEVENT:TRUE
SUMMARY:Webinar: How to Make Your Credit Work for You
DESCRIPTION:Join UNIFY Financial Credit Union for a FREE Webinar!  A good credit score opens doors to better financial opportunities! Fortunately\, in UNIFY's Understanding Credit\, webinar you'll learn the tips and tricks on how money management today impacts credit standing tomorrow.
X-ALT-DESC;FMTTYPE=text/html:Join UNIFY Financial Credit Union for a FREE Webinar!&nbsp\; A good credit score opens doors to better financial opportunities! Fortunately\, in UNIFY&#39\;s <em>Understanding Credit</em>\, webinar you&#39\;ll learn the tips and tricks on how money management today impacts credit standing tomorrow.&nbsp\;
LOCATION:Register on-line https://www.unifyfcu.com/unify-webinars
UID:e.1156.3729
SEQUENCE:3
DTSTAMP:20260419T160112Z
URL:https://www.montebellochamber.org/events/details/webinar-how-to-make-your-credit-work-for-you-3729
END:VEVENT

END:VCALENDAR
