BEGIN:VCALENDAR
VERSION:2.0
PRODID:-//ChamberMaster//Event Calendar 2.0//EN
METHOD:PUBLISH
X-PUBLISHED-TTL:P3D
REFRESH-INTERVAL:P3D
CALSCALE:GREGORIAN
BEGIN:VEVENT
DTSTART:20140119T200000Z
DTEND:20140120T010000Z
X-MICROSOFT-CDO-ALLDAYEVENT:FALSE
SUMMARY:Wedding & Quinceanera Show
DESCRIPTION:See the latest trends and upcoming hot ideas. All day Make-up demonstrations\, catering food & cake tasting\, cup cake professionals\, lighting ideas\, dj services\,linins \, decorating \, limousine services and more.
X-ALT-DESC;FMTTYPE=text/html:See the latest trends and upcoming hot ideas. All day Make-up demonstrations\, catering food &amp\; cake tasting\, cup cake professionals\, lighting ideas\, dj services\,linins \, decorating \, limousine services and more.
LOCATION:Heavenly Choice Events
UID:e.1156.967
SEQUENCE:3
DTSTAMP:20260419T203823Z
URL:https://www.montebellochamber.org/events/details/wedding-quinceanera-show-01-19-2014-967
END:VEVENT

END:VCALENDAR
