BEGIN:VCALENDAR
VERSION:2.0
PRODID:-//ChamberMaster//Event Calendar 2.0//EN
METHOD:PUBLISH
X-PUBLISHED-TTL:P3D
REFRESH-INTERVAL:P3D
CALSCALE:GREGORIAN
BEGIN:VEVENT
DTSTART:20200303T190000Z
DTEND:20200303T200000Z
X-MICROSOFT-CDO-ALLDAYEVENT:FALSE
SUMMARY:Wellness Lecture
DESCRIPTION:As we age\, the risk of fall accidents rises but there are ways to counter it. See how environmental modifications\, strengthening movement training\, and more can help prevent or minimize falls.
X-ALT-DESC;FMTTYPE=text/html:As we age\, the risk of fall accidents rises but there are ways to counter it. See how environmental modifications\, strengthening movement training\, and more can help prevent or minimize falls.&nbsp\;
LOCATION:The lecture will take place at Beverly Hospital Tower Basement Rooms. The address is 309 W. Beverly Blvd.\, Montebello\, CA\, 90640.
UID:e.1156.3577
SEQUENCE:3
DTSTAMP:20260422T201914Z
URL:https://www.montebellochamber.org/events/details/wellness-lecture-3577
END:VEVENT

END:VCALENDAR
