BEGIN:VCALENDAR
VERSION:2.0
PRODID:-//ChamberMaster//Event Calendar 2.0//EN
METHOD:PUBLISH
X-PUBLISHED-TTL:P3D
REFRESH-INTERVAL:P3D
CALSCALE:GREGORIAN
BEGIN:VEVENT
DTSTART:20141217T200000Z
DTEND:20141217T213000Z
X-MICROSOFT-CDO-ALLDAYEVENT:FALSE
SUMMARY:Western Dental & Orthodontics Ribbon Cutting Ceremony
DESCRIPTION:Attending the Ribbon Cutting/ Grand Opening of Western Dental and Orthodontics!
X-ALT-DESC;FMTTYPE=text/html:<strong>Attending the Ribbon Cutting/ Grand Opening of Western Dental and Orthodontics!</strong><br />\n&nbsp\;
LOCATION:2200 W. Beverly Blvd.\, Suite 400\, Montebello\, CA 90640
UID:e.1156.1128
SEQUENCE:3
DTSTAMP:20260419T130840Z
URL:https://www.montebellochamber.org/events/details/western-dental-orthodontics-ribbon-cutting-ceremony-12-17-2014-1128
END:VEVENT

END:VCALENDAR
