BEGIN:VCALENDAR
VERSION:2.0
PRODID:-//ChamberMaster//Event Calendar 2.0//EN
METHOD:PUBLISH
X-PUBLISHED-TTL:P3D
REFRESH-INTERVAL:P3D
CALSCALE:GREGORIAN
BEGIN:VEVENT
DTSTART:20190925T183000Z
DTEND:20190925T203000Z
X-MICROSOFT-CDO-ALLDAYEVENT:FALSE
SUMMARY:Whittier First Day-Landlord Engagement Event
DESCRIPTION:Whittier First Day presents Landlord Engagement Event! \n\nCome learn about the benefits available to Landlords! \n\n-Free assistance to fill your vacant units    -Guaranteed subsidy payments\n\n-Access to loss mitigation funds for damages  -Landlord incentives \n\n-Learn about Lease-Up!    -Powered by PATH    \n\n-Reward of helping others in need and many more!
X-ALT-DESC;FMTTYPE=text/html:Whittier First Day presents Landlord Engagement Event!&nbsp\;<br />\nCome learn about the benefits available to Landlords!&nbsp\;<br />\n-Free assistance to fill your vacant units&nbsp\; &nbsp\; -Guaranteed subsidy payments<br />\n-Access to loss mitigation funds for damages&nbsp\; -Landlord incentives&nbsp\;<br />\n-Learn about Lease-Up!&nbsp\; &nbsp\; -Powered by PATH&nbsp\; &nbsp\;&nbsp\;<br />\n-Reward of helping others in need and many more!&nbsp\;
LOCATION:Montebello City Council Hall-Conference Room 1600 W. Beverly Blvd. Montebello\, CA 90640
UID:e.1156.3444
SEQUENCE:3
DTSTAMP:20260420T065450Z
URL:https://www.montebellochamber.org/events/details/whittier-first-day-landlord-engagement-event-3444
END:VEVENT

END:VCALENDAR
