BEGIN:VCALENDAR
VERSION:2.0
PRODID:-//ChamberMaster//Event Calendar 2.0//EN
METHOD:PUBLISH
X-PUBLISHED-TTL:P3D
REFRESH-INTERVAL:P3D
CALSCALE:GREGORIAN
BEGIN:VEVENT
DTSTART:20200112T230000Z
DTEND:20200113T010000Z
X-MICROSOFT-CDO-ALLDAYEVENT:FALSE
SUMMARY:Wine Tasting & Art Show at Salvatore
DESCRIPTION:Wine Tasting & Art Show\n\nJoin us for an evening of sampling Orin Swift Wines and viewing the art work of local artists!
X-ALT-DESC;FMTTYPE=text/html:Wine Tasting &amp\; Art Show<br />\nJoin us for an evening of sampling Orin Swift Wines and viewing the art work of local artists!
LOCATION:Salvatore Italian Restaurant 125 N. 6th Street Montebello\, CA 90640
UID:e.1156.3514
SEQUENCE:3
DTSTAMP:20260419T130432Z
URL:https://www.montebellochamber.org/events/details/wine-tasting-art-show-at-salvatore-3514
END:VEVENT

END:VCALENDAR
