BEGIN:VCALENDAR
VERSION:2.0
PRODID:-//ChamberMaster//Event Calendar 2.0//EN
METHOD:PUBLISH
X-PUBLISHED-TTL:P3D
REFRESH-INTERVAL:P3D
CALSCALE:GREGORIAN
BEGIN:VEVENT
DTSTART:20191122T020000Z
DTEND:20191122T050000Z
X-MICROSOFT-CDO-ALLDAYEVENT:FALSE
SUMMARY:Wine Tasting Dinner at Clearman's Steak N Stein
DESCRIPTION:Early reservations are highly recommended for the final Wine Tasting Dinner of 2019 on Thursday\, Nov. 21 from 6 to 9 p.m. at Clearman's Steak 'n Stein Inn in Pico Rivera. \n\n\n\nThe very popular wine tasting dinner boasts four courses that are paired with a fine selection of choices from the Foley Family of Wines: \n\n	Course 1: Roasted Grape Crostini Appetizer With Lemon Ricotta paired with Bread and Butter Chardonnay\; \n	Course 2:  House Salad Cabbage and Cheese Bread paired with Roth Sauvignon Blanc\; \n	Course 3: Slow Roasted Filet Mignon with Garlic Mashed Potatoes and Grilled Asparagus paired with Chalk Hill Pinot Noir\; \n	Course 4:  Dark Chocolate Cr me Br l e paired with Lancaster's Wine Maker's Cuvee.
X-ALT-DESC;FMTTYPE=text/html:<span style="font-family:arial\;">Early reservations are highly recommended for the final Wine Tasting Dinner of 2019 on Thursday\, Nov. 21 from 6 to 9 p.m. at Clearman&rsquo\;s Steak &rsquo\;n Stein Inn in Pico Rivera.&nbsp\;<br />\n<br />\nThe very popular wine tasting dinner boasts four courses that are paired with a fine selection of choices from the Foley Family of Wines: </span>\n<ul>\n	<li><span style="font-family:arial\;">Course 1: Roasted Grape Crostini Appetizer With Lemon Ricotta paired with Bread and Butter Chardonnay\; </span></li>\n	<li><span style="font-family:arial\;">Course 2:&nbsp\; House Salad Cabbage and Cheese Bread paired with Roth Sauvignon Blanc\; </span></li>\n	<li><span style="font-family:arial\;">Course 3: Slow Roasted Filet Mignon with Garlic Mashed Potatoes and Grilled Asparagus paired with Chalk Hill Pinot Noir\; </span></li>\n	<li><span style="font-family:arial\;">Course 4:&nbsp\; Dark Chocolate Cr&egrave\;me Br&ucirc\;l&eacute\;e paired with Lancaster&rsquo\;s Wine Maker&rsquo\;s Cuvee.</span></li>\n</ul>\n
LOCATION:Steak 'n Stein 9545 E. Whittier Blvd. Pico Rivera\, CA 90660 Ample free parking can be found at the rear of the restaurant.
UID:e.1156.3493
SEQUENCE:3
DTSTAMP:20260419T160149Z
URL:https://www.montebellochamber.org/events/details/wine-tasting-dinner-at-clearman-s-steak-n-stein-3493
END:VEVENT

END:VCALENDAR
