BEGIN:VCALENDAR
VERSION:2.0
PRODID:-//ChamberMaster//Event Calendar 2.0//EN
METHOD:PUBLISH
X-PUBLISHED-TTL:P3D
REFRESH-INTERVAL:P3D
CALSCALE:GREGORIAN
BEGIN:VEVENT
DTSTART:20190328T010000Z
DTEND:20190328T040000Z
X-MICROSOFT-CDO-ALLDAYEVENT:FALSE
SUMMARY:Wine Tasting Event at Clearman's Steak'n Stein
DESCRIPTION:Clearman's Steak 'n Stein \n\nWine Tasting Event
X-ALT-DESC;FMTTYPE=text/html:Clearman&#39\;s Steak &#39\;n Stein&nbsp\;<br />\nWine Tasting Event&nbsp\;
LOCATION:Clearman's Steak 'n Stein Inn 9545 Whittier Blvd. Pico Rivera\, CA 90660
UID:e.1156.3263
SEQUENCE:3
DTSTAMP:20260420T142810Z
URL:https://www.montebellochamber.org/events/details/wine-tasting-event-at-clearman-s-steak-n-stein-3263
END:VEVENT

END:VCALENDAR
