BEGIN:VCALENDAR
VERSION:2.0
PRODID:-//ChamberMaster//Event Calendar 2.0//EN
METHOD:PUBLISH
X-PUBLISHED-TTL:P3D
REFRESH-INTERVAL:P3D
CALSCALE:GREGORIAN
BEGIN:VEVENT
DTSTART:20120712T013000Z
DTEND:20120712T043000Z
X-MICROSOFT-CDO-ALLDAYEVENT:FALSE
SUMMARY:Wine Tasting - Piccolo Mondo
DESCRIPTION:Come and unwine with your friends at Piccolo Mondo. Its that time again for our wine tasting event.  Our wine tasting includes 4 different wines and 5 courses of food for your enjoyment.  For more information please send an email to  oscar.rodriguez@ordonezcorp.com.   See you soon.\n\n\n\nThank you!
X-ALT-DESC;FMTTYPE=text/html:Come and unwine with your friends at Piccolo Mondo. Its that time again for our wine tasting event.&nbsp\; Our wine tasting includes 4 different wines and 5 courses of food for your enjoyment.&nbsp\; For more information please send an email to&nbsp\; <a href="mailto:oscar.rodriguez@ordonezcorp.com">oscar.rodriguez@ordonezcorp.com</a>.&nbsp\;&nbsp\; See you soon.<br />\n<br />\nThank you!
LOCATION:Piccolo Mondo 886 north garfield ave. Montebello ca 90640
UID:e.1156.644
SEQUENCE:3
DTSTAMP:20260420T035654Z
URL:https://www.montebellochamber.org/events/details/wine-tasting-piccolo-mondo-07-11-2012-644
END:VEVENT

END:VCALENDAR
