BEGIN:VCALENDAR
VERSION:2.0
PRODID:-//ChamberMaster//Event Calendar 2.0//EN
METHOD:PUBLISH
X-PUBLISHED-TTL:P3D
REFRESH-INTERVAL:P3D
CALSCALE:GREGORIAN
BEGIN:VEVENT
DTSTART:20181224T153000Z
DTEND:20190112T013000Z
X-MICROSOFT-CDO-ALLDAYEVENT:FALSE
SUMMARY:Winter Camp - City of Montebello Recreation & Community Services
DESCRIPTION:City of Montebello\n\nRecreation and Community Services Dept.\n\nWinter Camp\n\n\n\nWinter camp is a program designed to fit the needs of children and parents during the holiday vacation.  Camp incorporates on-site indoor/outdoor physical activities\, games\, arts & crafts and more.
X-ALT-DESC;FMTTYPE=text/html:City of Montebello<br />\nRecreation and Community Services Dept.<br />\nWinter Camp<br />\n<br />\nWinter camp is a program designed to fit the needs of children and parents during the holiday vacation.&nbsp\; Camp incorporates on-site indoor/outdoor physical activities\, games\, arts &amp\; crafts and more.&nbsp\;<br />\n<br />\n&nbsp\;
LOCATION:Fremont Elementary 200 W. Madison Ave. Montebello\, CA 90640 Registration Information at Recreation Dept. 1600 W. Beverly Blvd. Monday-Thursday 7:30am-5:30pm
UID:e.1156.3133
SEQUENCE:3
DTSTAMP:20260419T143824Z
URL:https://www.montebellochamber.org/events/details/winter-camp-city-of-montebello-recreation-community-services-3133
END:VEVENT

END:VCALENDAR
