BEGIN:VCALENDAR
VERSION:2.0
PRODID:-//ChamberMaster//Event Calendar 2.0//EN
METHOD:PUBLISH
X-PUBLISHED-TTL:P3D
REFRESH-INTERVAL:P3D
CALSCALE:GREGORIAN
BEGIN:VEVENT
DTSTART:20140516T160000Z
DTEND:20140516T200000Z
X-MICROSOFT-CDO-ALLDAYEVENT:FALSE
SUMMARY:Women in Business Conference
DESCRIPTION:Come learn about:\n\n\n\nDeveloping a Business Plan\n\nFinancing Your Business\n\nHuman Resources\n\nGoldman Sachs 10\,000 Small Businesses Program\n\nMarketing Your Business\n\n\n\nProvided by :\n\nMontebello Chamber of Commerce\n\nPico Rivera Chamber of Commerce\n\nSanta Fe Springs Chamber of Commerce\n\nNorwalk Chamber of Commerce\n\nWhittier Area Chamber of Commerce\n\nGreater Lakewood Chamber of Commerce\n\n\n\n\n\nIn Collaboration With:\n\n\n\nCongresswoman Linda Sanchez\n\nAssemblymember Cristina Garcia\n\n\n\nFeaturing:\n\nU.S. Small Business Adminstration\n\nSBDC- Small Business Development Center
X-ALT-DESC;FMTTYPE=text/html:Come learn about:<br />\n<br />\nDeveloping a Business Plan<br />\nFinancing Your Business<br />\nHuman Resources<br />\nGoldman Sachs 10\,000 Small Businesses Program<br />\nMarketing Your Business<br />\n<br />\nProvided by :<br />\nMontebello Chamber of Commerce<br />\nPico Rivera Chamber of Commerce<br />\nSanta Fe Springs Chamber of Commerce<br />\nNorwalk Chamber of Commerce<br />\nWhittier Area Chamber of Commerce<br />\nGreater Lakewood Chamber of Commerce<br />\n<br />\n<br />\nIn Collaboration With:<br />\n<br />\nCongresswoman Linda Sanchez<br />\nAssemblymember Cristina Garcia<br />\n<br />\nFeaturing:<br />\nU.S. Small Business Adminstration<br />\nSBDC- Small Business Development Center
LOCATION:Pico Park 9528 Beverly Blvd.\, Pico Rivera\, CA 90660
UID:e.1156.988
SEQUENCE:3
DTSTAMP:20260419T143618Z
URL:https://www.montebellochamber.org/events/details/women-in-business-conference-05-16-2014-988
END:VEVENT

END:VCALENDAR
