BEGIN:VCALENDAR
VERSION:2.0
PRODID:-//ChamberMaster//Event Calendar 2.0//EN
METHOD:PUBLISH
X-PUBLISHED-TTL:P3D
REFRESH-INTERVAL:P3D
CALSCALE:GREGORIAN
BEGIN:VEVENT
DTSTART:20171014T011500Z
DTEND:20171014T040000Z
X-MICROSOFT-CDO-ALLDAYEVENT:FALSE
SUMMARY:Wonder Woman Movie Night
DESCRIPTION:An Evening of Women POWER!\n\n\n\nHosted by Local Women Leaders\n\nAssemblywoman Cristina Garcia - Congresswoman Lucille Roybal-Allard - Supervisor Hilda Solis - Supervisor Janice Hahn - City of Montebello\, Mayor Vivian Romero - Councilmember Vanessa Delgado and many others. \n\n\n\nAssemblywoman Cristina Garcia\, Chair of the California Legislative Women's Caucus will provide recap on legislation impacting women and families. \n\n\n\nFirst 100 children in attendance receive free wonder woman capes!\n\nFree popcorn and cotton candy\, food truck will be available on site!\n\nFun for the Whole Family!
X-ALT-DESC;FMTTYPE=text/html:An Evening of Women POWER!<br />\n<br />\nHosted by Local Women Leaders<br />\n<strong>Assemblywoman Cristina Garcia - Congresswoman Lucille&nbsp\;Roybal-Allard - Supervisor Hilda Solis - Supervisor Janice Hahn - City of Montebello\, Mayor Vivian Romero - Councilmember Vanessa Delgado</strong>&nbsp\;and many others.&nbsp\;<br />\n<br />\nAssemblywoman Cristina Garcia\, Chair of the California Legislative Women&#39\;s Caucus will provide recap on legislation impacting women and families.&nbsp\;<br />\n<br />\nFirst 100 children in attendance receive free wonder woman capes!<br />\nFree popcorn and cotton candy\, food truck will be available on site!<br />\nFun for the Whole Family!
LOCATION:Montebello Amphitheater 1401 W. Whittier Blvd. Montebello\, CA 90640
UID:e.1156.2349
SEQUENCE:3
DTSTAMP:20260419T130737Z
URL:https://www.montebellochamber.org/events/details/wonder-woman-movie-night-2349
END:VEVENT

END:VCALENDAR
