BEGIN:VCALENDAR
VERSION:2.0
PRODID:-//ChamberMaster//Event Calendar 2.0//EN
METHOD:PUBLISH
X-PUBLISHED-TTL:P3D
REFRESH-INTERVAL:P3D
CALSCALE:GREGORIAN
BEGIN:VEVENT
DTSTART;VALUE=DATE:20130309
DTEND;VALUE=DATE:20130310
TRANSP:TRANSPARENT
X-MICROSOFT-CDO-ALLDAYEVENT:TRUE
SUMMARY:WordPress BootCamp Class Live/Training
DESCRIPTION:WordPress BootCamp Class Live/Training:  Build your very own Website and Monetize It with WordPress\n\nLearn how to build your very own full-featured Website based on the powerful open source WordPress platform.  You receive step-by-step instruction on how to install WordPress and manage all aspects of your site\, all by yourself!!!  You will also learn how to install and configure powerful themes and plug-ins to add a variety of useful features to your site.\n\n\n\nYou are going to learn:  Operating Systems\, Required Software\, Existing Domain Name\, Overview of WordPress\, WordPress Installation\, Website Type\, Theme and Plug-In Installation & Management\, Theme Installation\, Theme Resources\, Types of Themes\, Essential Plug-Ins\, Plug-In Installation\, Plug-In Set-Up\, Content Set-Up\, Image Uploading\, and Much\, Much More!!!
X-ALT-DESC;FMTTYPE=text/html:WordPress BootCamp Class Live/Training:&nbsp\; Build your very own Website and Monetize It with WordPress<br />\nLearn how to build your very own full-featured Website based on the powerful open source WordPress platform.&nbsp\; You receive step-by-step instruction on how to install WordPress and manage all aspects of your site\, all by yourself!!!&nbsp\; You will also learn how to install and configure powerful themes and plug-ins to add a variety of useful features to your site.<br />\n<br />\nYou are going to learn:&nbsp\; Operating Systems\, Required Software\, Existing Domain Name\, Overview of WordPress\, WordPress Installation\, Website Type\, Theme and Plug-In Installation &amp\; Management\, Theme Installation\, Theme Resources\, Types of Themes\, Essential Plug-Ins\, Plug-In Installation\, Plug-In Set-Up\, Content Set-Up\, Image Uploading\, and Much\, Much More!!!
LOCATION:University of Phoenix Pasadena\, Ca.
UID:e.1156.688
SEQUENCE:3
DTSTAMP:20260419T155905Z
URL:https://www.montebellochamber.org/events/details/wordpress-bootcamp-class-live-training-03-09-2013-688
END:VEVENT

END:VCALENDAR
