BEGIN:VCALENDAR
VERSION:2.0
PRODID:-//ChamberMaster//Event Calendar 2.0//EN
METHOD:PUBLISH
X-PUBLISHED-TTL:P3D
REFRESH-INTERVAL:P3D
CALSCALE:GREGORIAN
BEGIN:VEVENT
DTSTART:20120921T000000Z
DTEND:20120921T030000Z
X-MICROSOFT-CDO-ALLDAYEVENT:FALSE
SUMMARY:X-IGENT Printing Inc. 5th Annual Multi-Chamber Mixer Disco Party
DESCRIPTION:X-IGENT Printing Inc. 5th Annual Multi-Chamber Mixer\n\nDisco Party... Food\, Drinks\, Prizes\, Music!\n\n\n\nCome Mix and Mingle!\n\n\n\nParticipating Chambers: Bell Gardens Chamber of Commerce\, Commerce Industrial Council\, Montebello Chamber of Commerce\, and Santa Fe Springs Chamber of Commerce
X-ALT-DESC;FMTTYPE=text/html:X-IGENT&nbsp\;Printing Inc. 5th Annual Multi-Chamber Mixer<br />\nDisco Party... Food\, Drinks\, Prizes\, Music!<br />\n<br />\nCome Mix and Mingle!<br />\n<br />\nParticipating Chambers: Bell Gardens Chamber of Commerce\,&nbsp\;Commerce Industrial Council\, Montebello Chamber of Commerce\, and Santa Fe Springs Chamber of&nbsp\;Commerce<br />\n&nbsp\;&nbsp\;&nbsp\;&nbsp\;&nbsp\;&nbsp\;&nbsp\;&nbsp\;&nbsp\;&nbsp\;&nbsp\;&nbsp\;&nbsp\;&nbsp\;&nbsp\;&nbsp\;&nbsp\;&nbsp\;&nbsp\;&nbsp\;&nbsp\;&nbsp\;&nbsp\;&nbsp\;&nbsp\;&nbsp\;&nbsp\;&nbsp\;&nbsp\;&nbsp\;&nbsp\;&nbsp\;&nbsp\;&nbsp\;<br />\n&nbsp\;&nbsp\;&nbsp\;&nbsp\;&nbsp\;&nbsp\;&nbsp\;&nbsp\;&nbsp\;&nbsp\;&nbsp\;&nbsp\;&nbsp\;&nbsp\;&nbsp\;&nbsp\;&nbsp\;&nbsp\;&nbsp\;&nbsp\;&nbsp\;&nbsp\;&nbsp\;&nbsp\;&nbsp\;&nbsp\;&nbsp\;&nbsp\;&nbsp\;&nbsp\;&nbsp\;&nbsp\;&nbsp\;&nbsp\;&nbsp\;&nbsp\;&nbsp\;&nbsp\;&nbsp\;&nbsp\;&nbsp\;&nbsp\;&nbsp\;&nbsp\;
LOCATION:X-IGENT Printing Inc. 1001 Goodrich Blvd. Los Angeles\, CA 90022
UID:e.1156.651
SEQUENCE:3
DTSTAMP:20260420T004718Z
URL:https://www.montebellochamber.org/events/details/x-igent-printing-inc-5th-annual-multi-chamber-mixer-disco-party-09-20-2012-651
END:VEVENT

END:VCALENDAR
