BEGIN:VCALENDAR
VERSION:2.0
PRODID:-//ChamberMaster//Event Calendar 2.0//EN
METHOD:PUBLISH
X-PUBLISHED-TTL:P3D
REFRESH-INTERVAL:P3D
CALSCALE:GREGORIAN
BEGIN:VEVENT
DTSTART:20130816T000000Z
DTEND:20130816T040000Z
X-MICROSOFT-CDO-ALLDAYEVENT:FALSE
SUMMARY:XIGENT Printing\, Inc. 6th Annual Summer Mixer
DESCRIPTION:XIGENT Printing\, Inc. \n\n            Presents\n\n   6th Annual Summer \n\n             Mixer\n\n      Havana Nights\n\nCelebrate an evening of music & fun with\n\nMontebello Chamber of Commerce\, Santa Fe Springs Chamber of Commerce & Industrial League\, Inc. & Commerce Industrial Council Chamber of Commerce\n\n\n\nGuayaberas & Fedoras encouraged!
X-ALT-DESC;FMTTYPE=text/html:&nbsp\;&nbsp\;&nbsp\;&nbsp\;<span style="color: rgb(0\, 0\, 255)\;"><strong>XIGENT Printing\, Inc. </strong></span><br />\n&nbsp\;&nbsp\;&nbsp\;&nbsp\;&nbsp\;&nbsp\;&nbsp\;&nbsp\;&nbsp\;&nbsp\; &nbsp\;Presents<br />\n<strong><span style="color: rgb(0\, 0\, 255)\;"><em>&nbsp\;&nbsp\; 6th Annual Summer&nbsp\;<br />\n&nbsp\;&nbsp\;&nbsp\;&nbsp\;&nbsp\;&nbsp\;&nbsp\;&nbsp\;&nbsp\;&nbsp\;</em></span><span style="color: rgb(0\, 0\, 0)\;"><em>&nbsp\;&nbsp\;</em></span></strong><span style="color: rgb(0\, 0\, 0)\;"> <strong>Mixer<br />\n&nbsp\;&nbsp\;&nbsp\;&nbsp\;&nbsp\; </strong></span><span style="color: rgb(0\, 0\, 255)\;"><strong>Havana Nights</strong></span><br />\n<span style="color: rgb(0\, 0\, 0)\;"><strong>Celebrate an evening of music &amp\; fun with</strong></span><br />\n<span style="color: rgb(0\, 0\, 0)\;">Montebello Chamber of Commerce\, Santa Fe Springs Chamber of Commerce &amp\; Industrial League\, Inc. &amp\; Commerce Industrial Council Chamber of Commerce</span><br />\n<br />\n<span style="color: rgb(0\, 0\, 255)\;"><em><strong>Guayaberas &amp\; Fedoras encouraged!</strong></em></span><br />\n
LOCATION:XIGENT Printing\, Inc. 1001 Goodrich Blvd. Los Angeles\, CA 90022
UID:e.1156.930
SEQUENCE:3
DTSTAMP:20260419T160335Z
URL:https://www.montebellochamber.org/events/details/xigent-printing-inc-6th-annual-summer-mixer-08-15-2013-930
END:VEVENT

END:VCALENDAR
