BEGIN:VCALENDAR
VERSION:2.0
PRODID:-//ChamberMaster//Event Calendar 2.0//EN
METHOD:PUBLISH
X-PUBLISHED-TTL:P3D
REFRESH-INTERVAL:P3D
CALSCALE:GREGORIAN
BEGIN:VEVENT
DTSTART:20140919T000000Z
DTEND:20140919T020000Z
X-MICROSOFT-CDO-ALLDAYEVENT:FALSE
SUMMARY:XIGENT Printing Inc. 7th Annual 50's Theme Summer Mixer
DESCRIPTION:Attend X-Igent Printing Inc 7th Annual 50's Theme Summer Mixer !\n\n\n\n50's Theme Summer Mixer* 50's attire Encouraged!
X-ALT-DESC;FMTTYPE=text/html:Attend X-Igent Printing Inc 7th Annual 50's Theme Summer Mixer !<br>\n<br>\n50's Theme Summer Mixer* 50's attire Encouraged!
LOCATION:1001 Goodrich Blvd. Los Angeles\, CA 90022
UID:e.1156.1081
SEQUENCE:3
DTSTAMP:20260419T130737Z
URL:https://www.montebellochamber.org/events/details/xigent-printing-inc-7th-annual-50-s-theme-summer-mixer-09-18-2014-1081
END:VEVENT

END:VCALENDAR
