BEGIN:VCALENDAR
VERSION:2.0
PRODID:-//ChamberMaster//Event Calendar 2.0//EN
METHOD:PUBLISH
X-PUBLISHED-TTL:P3D
REFRESH-INTERVAL:P3D
CALSCALE:GREGORIAN
BEGIN:VEVENT
DTSTART:20180316T000000Z
DTEND:20180316T043000Z
X-MICROSOFT-CDO-ALLDAYEVENT:FALSE
SUMMARY:Yalla Food Truck at Angry Horse
DESCRIPTION:The Yalla Food Truck is bringing falafel back to the taproom!\n\n\n\nThese guys are vegan\, vegetarian and gluten free friendly but they also have chicken kebab sandwiches too. They'll be parked out back starting at 5pm!
X-ALT-DESC;FMTTYPE=text/html:<span style="color: rgb(75\, 79\, 86)\; font-family: Helvetica\, Arial\, sans-serif\; font-size: 14px\;">The&nbsp\;</span><a href="https://www.facebook.com/YallaTruck/" style="color: rgb(54\, 88\, 153)\; cursor: pointer\; outline: none\; font-family: Helvetica\, Arial\, sans-serif\; font-size: 14px\;">Yalla</a><span style="color: rgb(75\, 79\, 86)\; font-family: Helvetica\, Arial\, sans-serif\; font-size: 14px\;">&nbsp\;Food Truck is bringing falafel back to the taproom!</span><br style="color: rgb(75\, 79\, 86)\; font-family: Helvetica\, Arial\, sans-serif\; font-size: 14px\;" />\n<br style="color: rgb(75\, 79\, 86)\; font-family: Helvetica\, Arial\, sans-serif\; font-size: 14px\;" />\n<span style="color: rgb(75\, 79\, 86)\; font-family: Helvetica\, Arial\, sans-serif\; font-size: 14px\;">These guys are vegan\, vegetarian and gluten free friendly but they also have chicken kebab sandwiches too. They&#39\;ll be parked out back starting at 5pm!</span>
LOCATION:Angry Horse Brewing 603 W. Whittier Blvd. Montebello\, CA 90640
UID:e.1156.2502
SEQUENCE:3
DTSTAMP:20260419T143825Z
URL:https://www.montebellochamber.org/events/details/yalla-food-truck-at-angry-horse-2502
END:VEVENT

END:VCALENDAR
