BEGIN:VCALENDAR
VERSION:2.0
PRODID:-//ChamberMaster//Event Calendar 2.0//EN
METHOD:PUBLISH
X-PUBLISHED-TTL:P3D
REFRESH-INTERVAL:P3D
CALSCALE:GREGORIAN
BEGIN:VEVENT
DTSTART:20181109T013000Z
DTEND:20181109T060000Z
X-MICROSOFT-CDO-ALLDAYEVENT:FALSE
SUMMARY:YMCA 31st Annual Gala & Silent Action
DESCRIPTION:YMCA's 31st Annual Gala & Silent Auction\n\n\n\nMore details TBA
X-ALT-DESC;FMTTYPE=text/html:YMCA&#39\;s 31st Annual Gala &amp\; Silent Auction<br />\n<br />\nMore details TBA
LOCATION:Quiet Cannon Conference & Event Center 901 Via San Clemente Montebello\, Ca 90640
UID:e.1156.2348
SEQUENCE:3
DTSTAMP:20260419T173253Z
URL:https://www.montebellochamber.org/events/details/ymca-31st-annual-gala-silent-action-2348
END:VEVENT

END:VCALENDAR
