BEGIN:VCALENDAR
VERSION:2.0
PRODID:-//ChamberMaster//Event Calendar 2.0//EN
METHOD:PUBLISH
X-PUBLISHED-TTL:P3D
REFRESH-INTERVAL:P3D
CALSCALE:GREGORIAN
BEGIN:VEVENT
DTSTART:20180915T160000Z
DTEND:20180915T200000Z
X-MICROSOFT-CDO-ALLDAYEVENT:FALSE
SUMMARY:YMCA Senior Health Fair
DESCRIPTION:Join us for a day ALL about seniors! Learn how to manage your health\, your check book\, and your overall well-being!\n\n\n\nCome out for free demos\, health screenings and BINGO! \n\n\n\nPlease call for more information (323) 887-9622
X-ALT-DESC;FMTTYPE=text/html:Join us for a day ALL about seniors! Learn how to manage your health\, your check book\, and your overall well-being!<br />\n<br />\nCome out for free demos\, health screenings and BINGO!&nbsp\;<br />\n<br />\nPlease call for more information&nbsp\;<span style="color: rgb(51\, 51\, 51)\; font-family: Roboto\, sans-serif\; font-size: 13px\; background-color: rgb(255\, 255\, 255)\;">(323) 887-9622</span>
LOCATION:YMCA 2000 W. Beverly Blvd. Montebello\, CA 90640
UID:e.1156.2346
SEQUENCE:3
DTSTAMP:20260419T202303Z
URL:https://www.montebellochamber.org/events/details/ymca-senior-health-fair-2346
END:VEVENT

END:VCALENDAR
