BEGIN:VCALENDAR
VERSION:2.0
PRODID:-//ChamberMaster//Event Calendar 2.0//EN
METHOD:PUBLISH
X-PUBLISHED-TTL:P3D
REFRESH-INTERVAL:P3D
CALSCALE:GREGORIAN
BEGIN:VEVENT
DTSTART;VALUE=DATE:20190914
DTEND;VALUE=DATE:20190915
TRANSP:TRANSPARENT
X-MICROSOFT-CDO-ALLDAYEVENT:TRUE
SUMMARY:YMCA Senior Health Fair-SAVE THE DATE
DESCRIPTION:Discover Healthy Living at the 10th Annual Montebello-Commerce YMCA Senior Health Fair\n\n\n\nFree Event includes:\n\n	Event Shirt & Bag (first 100 attendees)\n	Hula and line dancing demo\n	Bingo & prizes\n	Health screenings\n	Chair massage\n	Refreshments & much more!
X-ALT-DESC;FMTTYPE=text/html:Discover Healthy Living at the 10th Annual Montebello-Commerce YMCA Senior Health Fair<br />\n<br />\nFree Event includes:\n<ul>\n	<li>Event Shirt &amp\; Bag (first 100 attendees)</li>\n	<li>Hula and line dancing demo</li>\n	<li>Bingo &amp\; prizes</li>\n	<li>Health screenings</li>\n	<li>Chair massage</li>\n	<li>Refreshments &amp\; much more!</li>\n</ul>\n
LOCATION:2000 W. Beverly Blvd. Montebello\, CA 90640
UID:e.1156.3203
SEQUENCE:3
DTSTAMP:20260419T173542Z
URL:https://www.montebellochamber.org/events/details/ymca-senior-health-fair-save-the-date-3203
END:VEVENT

END:VCALENDAR
