BEGIN:VCALENDAR
VERSION:2.0
PRODID:-//ChamberMaster//Event Calendar 2.0//EN
METHOD:PUBLISH
X-PUBLISHED-TTL:P3D
REFRESH-INTERVAL:P3D
CALSCALE:GREGORIAN
BEGIN:VEVENT
DTSTART:20130731T180000Z
DTEND:20130731T200000Z
X-MICROSOFT-CDO-ALLDAYEVENT:FALSE
SUMMARY:Your Life\, Your Legacy & Estate Planning
DESCRIPTION:Rose Hills Memorial Park & Mortuary in collaboration with the Law Offices of Steve Lopez is hosting a FREE educational seminar about "Estate Planning" and the benefits of planning final arrangements in advance.   Topics include a Will vs a Trust\, Estate Planning\, how to avoid probate and a Q & A session. This is an informational seminar that guarantees to inspire financial and emotional decisions.
X-ALT-DESC;FMTTYPE=text/html:<span style="color: rgb(56\, 56\, 56)\; font-family: Arial\, Helvetica\, sans-serif\, &quot\;MS Sans Serif&quot\;\;">Rose Hills Memorial Park &amp\; Mortuary&nbsp\;in collaboration&nbsp\;with the Law Offices of Steve Lopez&nbsp\;is hosting&nbsp\;a FREE educational seminar about &quot\;Estate Planning&quot\; and&nbsp\;the&nbsp\;benefits of planning final arrangements in advance.&nbsp\;&nbsp\; Topics&nbsp\;include a Will vs a Trust\, Estate Planning\, how to avoid probate and a Q &amp\; A session.&nbsp\;This is an informational seminar that guarantees to inspire&nbsp\;financial&nbsp\;and emotional decisions.&nbsp\;</span>
LOCATION:Conference Center at Rose Hills 3888 Workman Mill Rd. Whittier\, CA 90601
UID:e.1156.929
SEQUENCE:3
DTSTAMP:20260419T143647Z
URL:https://www.montebellochamber.org/events/details/your-life-your-legacy-estate-planning-07-31-2013-929
END:VEVENT

END:VCALENDAR
