BEGIN:VCALENDAR
VERSION:2.0
PRODID:-//ChamberMaster//Event Calendar 2.0//EN
METHOD:PUBLISH
X-PUBLISHED-TTL:P3D
REFRESH-INTERVAL:P3D
CALSCALE:GREGORIAN
BEGIN:VEVENT
DTSTART:20130329T010000Z
DTEND:20130329T030000Z
X-MICROSOFT-CDO-ALLDAYEVENT:FALSE
SUMMARY:Youth Money Smart Workshop
DESCRIPTION:CALLING OUT ALL TEENS!\n\n	\n\n	Learn everything there is to know about banking basics and the great benefits of savings.
X-ALT-DESC;FMTTYPE=text/html:<div align="left" style="color: rgb(85\, 85\, 85)\; font-family: Arial\, Helvetica\, sans-serif\; font-size: 12pt\;">\n	<strong>CALLING OUT ALL TEENS!<br />\n	<br />\n	Learn everything there is to know about banking basics and the great benefits of savings.</strong></div>\n<div>\n	&nbsp\;</div>\n
LOCATION:1619 Paramount Blvd. Montebello CA\, 90640
UID:e.1156.691
SEQUENCE:3
DTSTAMP:20260419T172753Z
URL:https://www.montebellochamber.org/events/details/youth-money-smart-workshop-03-28-2013-691
END:VEVENT

END:VCALENDAR
