BEGIN:VCALENDAR
VERSION:2.0
PRODID:-//ChamberMaster//Event Calendar 2.0//EN
METHOD:PUBLISH
X-PUBLISHED-TTL:P3D
REFRESH-INTERVAL:P3D
CALSCALE:GREGORIAN
BEGIN:VEVENT
DTSTART;VALUE=DATE:20180529
DTEND;VALUE=DATE:20180530
TRANSP:TRANSPARENT
X-MICROSOFT-CDO-ALLDAYEVENT:TRUE
SUMMARY:Youth T-Ball/Baseball/Softball
DESCRIPTION:City of Montebello\n\nYouth T-Ball/Baseball/Softball\n\nRegistration Fee $50\n\nUniform Fee $20\n\n\n\nCo-Ed T-Ball\n\nTiny TOts - 2015/15\n\n*Must be 3 years old\n\nRookie - 2012 - 2013\n\n\n\nBoys Baseball\n\nD 2010 - 2011\n\nC 2008 - 2009\n\nB 2006 - 2007\n\nA 2004 - 2005\n\n\n\nGirls Softball\n\nD 2010 - 2011\n\nC 2008 - 2009\n\nB 2006 - 2007\n\nA 2004 - 2005\n\n\n\nRequirements\n\nBirth certificate & school picture I.D. - for registration\n\nBaseball Glove - to practice/play
X-ALT-DESC;FMTTYPE=text/html:<div style="text-align: center\;">City of Montebello<br />\nYouth T-Ball/Baseball/Softball<br />\nRegistration Fee $50<br />\nUniform Fee $20<br />\n<br />\nCo-Ed T-Ball<br />\nTiny TOts - 2015/15<br />\n*Must be 3 years old<br />\nRookie - 2012 - 2013<br />\n<br />\nBoys Baseball<br />\nD 2010 - 2011<br />\nC 2008 - 2009<br />\nB 2006 - 2007<br />\nA 2004 - 2005<br />\n<br />\nGirls Softball<br />\nD 2010 - 2011<br />\nC 2008 - 2009<br />\nB 2006 - 2007<br />\nA 2004 - 2005<br />\n<br />\nRequirements<br />\nBirth certificate &amp\; school picture I.D. - for registration<br />\nBaseball Glove - to practice/play</div>\n
LOCATION:236 George Hensel Dr. Montebello\, CA 90640
UID:e.1156.2580
SEQUENCE:3
DTSTAMP:20260419T160302Z
URL:https://www.montebellochamber.org/events/details/youth-t-ball-baseball-softball-2580
END:VEVENT

END:VCALENDAR
