BEGIN:VCALENDAR
VERSION:2.0
PRODID:-//ChamberMaster//Event Calendar 2.0//EN
METHOD:PUBLISH
X-PUBLISHED-TTL:P3D
REFRESH-INTERVAL:P3D
CALSCALE:GREGORIAN
BEGIN:VEVENT
DTSTART;VALUE=DATE:20190208
DTEND;VALUE=DATE:20190209
TRANSP:TRANSPARENT
X-MICROSOFT-CDO-ALLDAYEVENT:TRUE
SUMMARY:Youth Track and Field-City of Montebello
DESCRIPTION:YOUTH TRACK & FIELD...Sign Ups!!\n\nAges:  7-14
X-ALT-DESC;FMTTYPE=text/html:YOUTH TRACK &amp\; FIELD...Sign Ups!!<br />\nAges:&nbsp\; 7-14&nbsp\;
LOCATION:Cathy Hensel Youth Center 236 George Hensel Drive Montebello\, CA 90640
UID:e.1156.3251
SEQUENCE:3
DTSTAMP:20260419T130929Z
URL:https://www.montebellochamber.org/events/details/youth-track-and-field-city-of-montebello-3251
END:VEVENT

END:VCALENDAR
