BEGIN:VCALENDAR
VERSION:2.0
PRODID:-//ChamberMaster//Event Calendar 2.0//EN
METHOD:PUBLISH
X-PUBLISHED-TTL:P3D
REFRESH-INTERVAL:P3D
CALSCALE:GREGORIAN
BEGIN:VEVENT
DTSTART:20180930T000000Z
DTEND:20180930T050000Z
X-MICROSOFT-CDO-ALLDAYEVENT:FALSE
SUMMARY:Zoot Suit Exhibit - Juan Matias Sanchez Adobe
DESCRIPTION:Zoot Suit Exhibit at the Juan Matias Sanchez Adobe\n\n\n\nOn the same day as our 2nd Annual Fundraiser Oktoberfest at the Adobe\, we will be having an exhibit opening\, highlighting the cultural and racial significance of Zoot Suits in Los Angeles!\n\n\n\nTake a break from the sun and cold beer by coming inside the Adobe to learn about your local history!
X-ALT-DESC;FMTTYPE=text/html:Zoot Suit Exhibit at the Juan Matias Sanchez Adobe<br />\n<br />\nOn the same day as our 2nd Annual Fundraiser Oktoberfest at the Adobe\, we will be having an exhibit opening\, highlighting the cultural and racial significance of Zoot Suits in Los Angeles!<br />\n<br />\nTake a break from the sun and cold beer by coming inside the Adobe to learn about your local history!
LOCATION:Juan Matias Sanchez Adobe 946 N. Adobe Ave. Montebello\, CA 90640
UID:e.1156.2859
SEQUENCE:3
DTSTAMP:20260419T202457Z
URL:https://www.montebellochamber.org/events/details/zoot-suit-exhibit-juan-matias-sanchez-adobe-2859
END:VEVENT

END:VCALENDAR
