BEGIN:VCALENDAR
VERSION:2.0
PRODID:-//ChamberMaster//Event Calendar 2.0//EN
METHOD:PUBLISH
X-PUBLISHED-TTL:P3D
REFRESH-INTERVAL:P3D
CALSCALE:GREGORIAN
BEGIN:VEVENT
DTSTART:20191217T013000Z
DTEND:20191217T023000Z
X-MICROSOFT-CDO-ALLDAYEVENT:FALSE
SUMMARY:Zumba at Beverly Hospital
DESCRIPTION:Zumba Exercise Class\n\nMove to the beat at your own speed with Zumba classes. These invigorating\, community-oriented dance-fitness classes provide modified\, low-impact moves and easy-to-follow pacing for older adults who love a healthy\, active lifestyle.
X-ALT-DESC;FMTTYPE=text/html:<span style="color: rgb(104\, 104\, 104)\; font-family: Arial\; font-size: 15px\; background-color: rgb(250\, 250\, 250)\;">Zumba Exercise Class</span><br style="font-variant-numeric: normal\; font-variant-east-asian: normal\; font-stretch: normal\; font-size: 15px\; line-height: 20px\; font-family: Arial\; color: rgb(104\, 104\, 104)\; background-color: rgb(250\, 250\, 250)\;" />\n<span style="color: rgb(104\, 104\, 104)\; font-family: Arial\; font-size: 15px\; background-color: rgb(250\, 250\, 250)\;">Move to the beat at your own speed with Zumba classes. These invigorating\, community-oriented dance-fitness classes provide modified\, low-impact moves and easy-to-follow pacing for older adults who love a healthy\, active lifestyle.</span>
LOCATION:Beverly Hospital 309 W Beverly Blvd\, Montebello\, CA 90640
UID:e.1156.3545
SEQUENCE:3
DTSTAMP:20260419T160111Z
URL:https://www.montebellochamber.org/events/details/zumba-at-beverly-hospital-3545
END:VEVENT

END:VCALENDAR
