BEGIN:VCALENDAR
VERSION:2.0
PRODID:-//ChamberMaster//Event Calendar 2.0//EN
METHOD:PUBLISH
X-PUBLISHED-TTL:P3D
REFRESH-INTERVAL:P3D
CALSCALE:GREGORIAN
BEGIN:VEVENT
DTSTART:20120411T020000Z
DTEND:20120411T030000Z
X-MICROSOFT-CDO-ALLDAYEVENT:FALSE
SUMMARY:Zumba Classes
DESCRIPTION:Get in shape for summer! Workout every Tuesday and Thursday evenings while dancing and having fun.  Our great Zumba instructor\, Katrina\, will help you learn the routines while you work out at your speed . What do you have to loose but a few inches.  Come on out and try it. No contract\, reservations or committment required. Wear comfortable loose clothes and tennis shoes. Please park in the North parking lot next to the dairy
X-ALT-DESC;FMTTYPE=text/html:<p>\n	Get in shape for summer!&nbsp\;Workout every Tuesday and Thursday evenings while dancing and having fun.&nbsp\; Our great Zumba instructor\, Katrina\,&nbsp\;will&nbsp\;help you learn the routines while you&nbsp\;work out&nbsp\;at your speed&nbsp\;. What do you have to loose but a few inches.&nbsp\;&nbsp\;Come on out and try it. No contract\, reservations&nbsp\;or committment required.&nbsp\;Wear comfortable loose clothes and tennis shoes. Please park in the North parking lot&nbsp\;next to the dairy&nbsp\;</p>\n
LOCATION:Heavenly Choice Flowers and Events
UID:e.1156.631
SEQUENCE:3
DTSTAMP:20260420T083643Z
URL:https://www.montebellochamber.org/events/details/zumba-classes-04-10-2012-631
END:VEVENT

END:VCALENDAR
